BEGIN:VCALENDAR
VERSION:2.0
PRODID:-//kirjastotfi/procal//NONSGML v1.0//EN
BEGIN:VEVENT
DTSTART:20250114T130000
DTEND:20250114T140000
SUMMARY:Liboppi-kahvit: Kirjastopedagogiikka
DESCRIPTION:<p>Vaasan ja Porvoon AKEt järjestävät 14.1. klo 13–14 yhteiset Liboppi-kahvit, jossa esitellään loppuvuodesta ilmestynyttä kurssia Kirjastopedagogiikka. Mukana on myös kurssiin kuuluvat videot tuottanut opettaja ja IT-pedagogi <strong>Johanna Björkell</strong>. Kurssi on suunnattu kaikille kirjastolaisille, jotka haluavat tuoda pedagogista näkökulmaa työhönsä ja se on julkaistu samaan aikaan suomen- ja ruotsinkielisenä. Myös etäkahvit ovat kaksikieliset. &nbsp;</p><p>Kurssi koostuu videoista ja tehtävistä, jotka tutustuttavat kirjastopedagogiikkaan ja tarjoavat näkökulmia kirjastossa tapahtuvaan opettamiseen ja oppimiseen. Kurssilla saa mm. vinkkejä, työkaluja ja strategioita, joiden avulla kirjastopedagogi voi innostaa kävijöitä, tukea lukutaitoa ja edistää elinikäistä oppimista eri kirjastoympäristöissä.&nbsp;Kurssin suorittamiseen menee noin 4–5 tuntia ja on suositeltavaa tehdä se pienissä paloissa.</p><p>Löydät kurssin Libopista Kirjastojen yhteiset -osiosta.</p><p><a href="https://liboppi.fi/"><strong>Tästä pääset Liboppiin</strong></a></p><p>Liboppi-kahveille ei tarvitse ilmoittautua etukäteen.</p><p><a href="https://teams.microsoft.com/l/meetup-join/19%3ameeting_MDQ4ODMzYzctODQ2ZC00M2U1LTgyY2MtM2JjODA5MTlkMzU2%40thread.v2/0?context=%7b%22Tid%22%3a%22ca8dd34c-ed0b-4236-92cb-5644bfcfaed6%22%2c%22Oid%22%3a%22e541d5ec-347e-45c2-89f1-1bfbb9dba5ca%22%7d"><strong>Liity mukaan Liboppi-kahveille tästä Teams-linkistä</strong></a></p>
LOCATION:Teams
END:VEVENT
END:VCALENDAR