BEGIN:VCALENDAR
VERSION:2.0
PRODID:-//kirjastotfi/procal//NONSGML v1.0//EN
BEGIN:VEVENT
DTSTART:20250204T130000
DTEND:20250204T140000
SUMMARY:Digitukikahvit
DESCRIPTION:<p>Ahdistaako digi? Kyselevätkö asiakkaat asioita, joita et osaa ratkaista? Missä menee rajat?&nbsp;</p><p>AKE Porvoon järjestämillä digitukikahveilla kuullaan ajankohtaista digiasiaa alueen kirjastoista. <strong>Tanja Kilpeläinen</strong> Nurmijärven kirjaston kertoo hankkeesta Digitukikerho kirjaston henkilökunnalle, jonka tavoitteena oli rohkaista henkilökuntaa digituen annossa ja vahvistaa siihen liittyviä digitaitoja.&nbsp;&nbsp;</p><p>Toinen puheenvuoro kuullaan Helsingin kaupunginkirjaston digituesta ja opastamisen rajoista. Aiheesta kertoo <strong>Anna Swahn</strong>.</p><p>Voit kertoa oman kirjastosi digituen tilanteesta myös etukäteen Miro-alustalla, jonne pääsee ilman tunnuksia ja kirjautumisia.</p><p><a href="https://miro.com/app/board/uXjVLxzRmPE=/?share_link_id=52763594351"><strong>Tästä pääset Miro-alustalle</strong></a></p><h2>Ohjelma&nbsp;&nbsp;</h2><p>13.00-13.05 Tervetuloa! Elina Karioja, AKE Porvoo&nbsp;</p><p>13.05-13.30 Hanke-esittely: Digitukikerho kirjaston henkilökunnalle. Tanja Kilpeläinen, kirjastovirkailija, Nurmijärven kirjasto&nbsp;</p><p>13.30-13.50 Digituki ja opastamisen rajat Helsingin kaupunginkirjastossa. Anna Swahn, pedagoginen informaatikko, Helsingin kaupunginkirjasto&nbsp;</p><p>13.50-14.00 Muut kysymykset ja kommentit&nbsp;</p><h2>Kenelle?&nbsp;</h2><p>Tilaisuus on suunnattu kaikille kirjastossa digituen kehittämisen parissa työskenteleville sekä digitukea ja asiakaspalvelutyötä tekeville.&nbsp;Digitukikahveille ei tarvitse ilmoittautua etukäteen.</p><p><a href="https://teams.microsoft.com/l/meetup-join/19%3ameeting_NWFhOTZhMGYtZDUzYS00NWY0LThkYjItNjY3YWY3ZGM1Mzcz%40thread.v2/0?context=%7b%22Tid%22%3a%22ca8dd34c-ed0b-4236-92cb-5644bfcfaed6%22%2c%22Oid%22%3a%22e541d5ec-347e-45c2-89f1-1bfbb9dba5ca%22%7d"><strong>Liity digitukikahveille tästä Teams-linkistä</strong></a></p>
LOCATION:Teams
END:VEVENT
END:VCALENDAR