BEGIN:VCALENDAR
VERSION:2.0
PRODID:-//kirjastotfi/procal//NONSGML v1.0//EN
BEGIN:VEVENT
DTSTART:20250207T090000
DTEND:20250207T120000
SUMMARY:Lukutaitotyötä vankilassa
DESCRIPTION:<p>Aluehallintovirastot, Rikosseuraamuslaitos ja vankilakirjastotyön verkosto järjestävät yhteistyössä webinaarin lukutaitotyöstä vankilassa.</p><p>Kohderyhmä<br>Yleisten kirjastojen ja Rikosseuraamuslaitoksen henkilöstö sekä yhteistyökumppanit.</p><p>Ohjelma<br>9-9.15 Avaus ja ajankohtaiset kuulumiset AVI / Marko Ojala</p><p>9.15-9.45 Lukutaitotyötä ohjaavat linjaukset ja ajankohtaiset kuulumiset / Kati Sunimento, Rise; Rebekka Pilppula, Turun kaupunginkirjasto</p><p>9.45-9.55 tauko</p><p>9.55-10.55 Hyvät käytännöt. Esittelyssä ovat Helsingin kaupunginkirjaston Lukubingo ja Vaasan kaupunginkirjaston Terveisiä kotiin – toiminta. Lisäksi kuullaan, miten Hämeenlinnan koordinoimana toiminta on käynnistynyt neljässä vankilassa ja miten työ jatkuu Lounais-Suomen vankiloissa.</p><p>10.55-11.05 tauko</p><p>11.05-11.35 Paleface &nbsp;</p><p>11.35-11.50 kommenttipuheenvuorot / yksikönpäällikkö Tarja Väisänen Mikkelin vankila, kirjastopäällikkö Pia Kontio, Mikkelin seutukirjasto</p><p>11.50-12 keskustelua ja lopetus.</p><p>Muut tiedot<br>Tilaisuus on maksuton. Muutokset ohjelmaan ovat mahdollisia. Tilaisuus tallennetaan. Linkki tallenteeseen lähetetään ilmoittautuneille ja on katsottavissa kaksi viikkoa.</p>
LOCATION:
END:VEVENT
END:VCALENDAR