BEGIN:VCALENDAR
VERSION:2.0
PRODID:-//kirjastotfi/procal//NONSGML v1.0//EN
BEGIN:VEVENT
DTSTART:20250109T130000
DTEND:20250109T140000
SUMMARY:Lahden ja Porvoon AKEn yhteiset etäkahvit: kirjastotyön eettiset periaatteet
DESCRIPTION:<p>Lahden ja Porvoon AKEn yhteistyössä järjestämillä kirjastohenkilökunnan etäkahveilla kuullaan alueen kirjastoille tärkeät, ajankohtaiset kuulumiset kirjastoalalta ja yhteistyökumppaneilta.</p><h2><strong>Vuosi käyntiin eettisiin periaatteisiin tutustumalla</strong></h2><p>Vuoden ensimmäisillä AKE-etäkahveilla aloitamme vuoden 2025 kirjastotyön eettisiin periaatteisiin tutustumalla. Suomen kirjastoseuran toiminnanjohtaja Juha Manninen esittelee vuonna 2024 tehtyä eettisten periaatteiden päivitystyötä. Tämän jälkeen saamme mahdollisesti kommenttipuheenvuoron aiheesta.</p><h3><strong>Aikataulu, muutokset mahdollisia</strong></h3><ul><li>klo 13-13.10 AKEn ajankohtaiset</li><li>klo 13.10-13.30 Juha Manninen: Kirjastotyön eettiset periaatteet</li><li>klo 13.30-13.45 Kommenttipuheenvuoro</li><li>klo 13.45-14 Keskustelua aiheesta</li></ul>
LOCATION:Teams
END:VEVENT
END:VCALENDAR