BEGIN:VCALENDAR
VERSION:2.0
PRODID:-//kirjastotfi/procal//NONSGML v1.0//EN
BEGIN:VEVENT
DTSTART:20241126T090000
DTEND:20241126T093000
SUMMARY:Celian kyselytunti kirjastoille 26.11.2024
DESCRIPTION:<p>Vuoden viimeinen&nbsp; kyselytunti Teamsissa tiistaina 26.11.2024 klo 9.00 – 9.30. Aiheina ovat CD-siirtymän eteneminen, Kirjastokampanja 2025, Celian esitteet, selkokielisyys ja organisaatiomuutokset.</p><p>Tervetuloa mukaan! Ei ennakkoilmoittautumista.&nbsp;</p>
LOCATION:verkossa
END:VEVENT
END:VCALENDAR