BEGIN:VCALENDAR
VERSION:2.0
PRODID:-//kirjastotfi/procal//NONSGML v1.0//EN
BEGIN:VEVENT
DTSTART:20241126T110000
DTEND:20241126T123000
SUMMARY:Webinaari: Copyright Barriers to Preserving European Culture
DESCRIPTION:<p>Englanninkielinen webinaari "Copyright Barriers to Preserving European Culture", jossa käsitellään teknisten suojaustoimenpiteiden (technological protection measures, TPM) aiheuttamia haasteita tiedon saatavuudelle ja säilyttämiselle tieto-organisaatioissa kuten esimerkiksi kirjastoissa.</p><p>Webinaarissa esitellään Glasgow:n yliopiston Knowledge Rights 21 -hankkeelle tekemää raporttia, jossa kartoitettiin oikeudellisten ja teknisten esiteiden vaikutusta kulttuuriperintöön ja digitaalisen historian säilyttämiseen.</p><p>Tarkempaa tietoa sisällöstä englanniksi ja ilmoittautumislinkki: https://www.knowledgerights21.org/news-story/copyright-barriers-to-preserving-european-culture/</p>
LOCATION:Verkossa
END:VEVENT
END:VCALENDAR