BEGIN:VCALENDAR
VERSION:2.0
PRODID:-//kirjastotfi/procal//NONSGML v1.0//EN
BEGIN:VEVENT
DTSTART:20241219T100000
DTEND:20241219T113000
SUMMARY:Pike ja Pampas opintomatkoilla: Kuulumisia maailmalta!
DESCRIPTION:<p>Yhteisen aamupäivän webinaarin aikana kuulemme kokemuksia aluehallintovirastojen järjestämästä opintomatkasta Ruotsiin Göteborgin seudulle sekä terveisiä Baltian maiden kirjastojen symposiumista Puolan Varsovasta. Puheenvuorot ja esitykset ovat monikielisiä.</p><h2><strong>Aika, paikka ja ilmoittautuminen</strong></h2><p><strong>Pike ja Pampas opintomatkoilla: Kuulumisia maailmalta!</strong><br><strong>To 19.12.2024</strong><br><strong>Klo 10.00-11.30</strong><br><strong>Etälähetys</strong></p><p>Tilaisuuteen ei tarvitse ilmoittautua ennakkoon. Kalenterikutsu ja osallistumislinkki lähetetään kaikille AKE Tampereen ja AKE Vaasan kehittämiskirjastoalueiden kirjastotyöntekijöille sähköpostitse. <a href="https://teams.microsoft.com/l/meetup-join/19%3ameeting_OWUyZGI4YWItOWJiMS00ZmU5LTk2YjMtN2Y1YjU2MDdjNzdh%40thread.v2/0?context=%7b%22Tid%22%3a%227c14dfa4-c0fc-4725-9f04-76a443deb095%22%2c%22Oid%22%3a%222221b076-6ba8-43b8-963a-f3f9aebf7c6c%22%7d">Voit liittyä mukaan myös oheisesta linkistä.</a></p><p>Tilaisuutta ei tallenneta.</p><h2><strong>Ohjelma</strong></h2><p>Klo 10.00-10.15 Alkusanat / Juliaana Grahn, koordinaattori (AKE Tampere), Annika Ilmola, palvelusuunnittelija (AKE Pampas), Jonna Toukonen, kirjastotoimen ylitarkastaja (Länsi- ja Sisä-Suomen aluehallintovirasto)</p><p>Klo 10.15-11.00 Matkakertomuksia opintomatkalta Göteborgin seudulta / Eri esittäjiä Länsi- ja Sisä-Suomesta</p><p>Klo 11.00-11.15 Terveiset Baltian maiden kirjastojen symposiumista Puolan Varsovasta / Annika Ilmola, palvelusuunnittelija (Vaasan kaupunginkirjasto)</p><p>Klo 11.15-11.30 Yhteistä keskustelua opintomatkoista</p><h2><strong>Lisätiedot</strong></h2><p>Kirjastotoimen ylitarkastaja Jonna Toukonen<br>0295 018 222 / Jonna Toukonen(a)avi.fi</p><p>Koordinaattori Juliaana Grahn<br>040 800 7828 /&nbsp;juliaana.grahn(a)tampere.fi</p><p>Palvelusuunnittelija Annika Ilmola<br>040 482 3175 / annika.ilmola(a)vaasa.fi</p>
LOCATION:
END:VEVENT
END:VCALENDAR