BEGIN:VCALENDAR
VERSION:2.0
PRODID:-//kirjastotfi/procal//NONSGML v1.0//EN
BEGIN:VEVENT
DTSTART:20241114T151500
DTEND:20241114T160000
SUMMARY: Kirjallisuuden tila – paneelikeskustelu
DESCRIPTION:<p><span lang="FI-FI">Paneelikeskustelussa Annastiina Louhisalmi (E-kirjasto), Sari Forsström (BookBeat) ja Anna-Riikka Carlson (WSOY) ja kirjailija Marko Hautala keskustelevat kirjallisuuden nykytilasta. Millaisia muutoksia ala kohtaa digitaalisessa murroksessa, ja miten ne vaikuttavat kirjailijoihin, kustantajiin ja lukijoihin? Mitkä ovat alan suurimmat haasteet ja mahdollisuudet tulevaisuudessa? Keskustelu tarjoaa syvällistä analyysia kirjallisuuden tilasta.</span><span>&nbsp;</span></p>
LOCATION:Pääkirjaston Draama-sali live + stream
END:VEVENT
END:VCALENDAR