BEGIN:VCALENDAR
VERSION:2.0
PRODID:-//kirjastotfi/procal//NONSGML v1.0//EN
BEGIN:VEVENT
DTSTART:20241205T130000
DTEND:20241205T140000
SUMMARY:E-kirjaston infotilaisuus 5.12.: E-kirjasto vuonna 2025
DESCRIPTION:<p>Aiheena on E-kirjasto vuonna 2025. Tule kuulemaan E-kirjaston aineistosta, aineistobudjetista ja vuoden 2025 suunnitelmista. <a href="https://www.kiwi.fi/x/YABfGg">Ilmoittaudu tapahtumasivulla</a></p>
LOCATION:webinaari
END:VEVENT
END:VCALENDAR