BEGIN:VCALENDAR
VERSION:2.0
PRODID:-//kirjastotfi/procal//NONSGML v1.0//EN
BEGIN:VEVENT
DTSTART:20241125T140000
DTEND:20241125T150000
SUMMARY:Pohjoismaisia lastenkirjoja vähemmistökirjailijoilta 
DESCRIPTION:<p>Tapahtumassa esitellään kulttuurisesti ja kielellisesti monimuotoisia pohjoismaisia lastenkirjoja sekä nostetaan esiin teoksia tänne muuttaneilta luovilta ammattilaisilta, joille Pohjolasta on tullut koti. Webinaari on tarkoitettu kirjastonhoitajille ja muille lastenkirjallisuuden ammattilaisille, jotka työskentelevät Suomessa, Ruotsissa, Norjassa tai Islannissa. Tilaisuuden kielenä on englanti, mutta tulkkausapuna käytetään tarvittaessa tekoälypohjaista käännösohjelmaa.<br><a href="https://forms.office.com/pages/responsepage.aspx?id=wQJ1ZEZ1lUyoFtobBHhkEF2d_hE5hOBBkEP1UZ_F-mpUN0tIU0dLNEJCVE9DTTM2MlRNRE9XWERNSiQlQCN0PWcu&amp;route=shorturl">Ilmoittaudu mukaan</a> 24.11.2024 mennessä.<br><br><strong>OHJELMA:</strong></p><p><strong>14-14:45</strong></p><ul><li>Kirjailijapuheenvuoro, Wende Luvinga</li><li>Kirjailijapuheenvuoro, Sergio Sánchez</li><li>Pohjoismaisia lastenkirjoja vähemmistöihin kuuluvilta kirjailijoilta: kirjalistauksen esittely, asiantuntija Ivonne Carlos</li></ul><p><strong>14:45-15:00</strong></p><ul><li><p>Keskustelua ryhmissä</p><p>Tilaisuus on osa <em>Lifting Minority Stories</em> -hanketta, jota rahoittaa Pohjoismainen kulttuuripiste.&nbsp;</p></li></ul>
LOCATION:verkossa
END:VEVENT
END:VCALENDAR