BEGIN:VCALENDAR
VERSION:2.0
PRODID:-//kirjastotfi/procal//NONSGML v1.0//EN
BEGIN:VEVENT
DTSTART:20241204T090000
DTEND:20241204T110000
SUMMARY:Hälsningar från Sverige
DESCRIPTION:<p>I oktober anordnade Regionförvaltningsverket ett studiebesök i Göteborgstrakten. Deltagarna i gruppresan besökte nio svenska bibliotek. Teman var kulturell mångfald och mångspråkighet, delaktighet, bibliotek i allaktivitetshus, nya koncept för bibliotekstjänster för barn och unga samt främjande av läsning.</p><p>Tio biblioteksanställda från Nyland deltog i resan.  Vad lärde vi oss? Vad var överraskande?</p><p>På ett morgonkaffe som ordnas av AKE-Borgå och Regionförvaltningsverket berättar deltagarna vad de lärde sig av studieresan. Tillställningen är tvåspråkig. Frågor och kommentarer kan ställas på både finska och svenska.</p><h2>Program</h2><p>9.00–9.15 Välkommen! Elina Karioja, AKE-Borgå och Marko Ojala, Regionförvaltningsverket<br>9.15-10.45 Reseberättelser, två stycken på finska och en på svenska<br>10.45-11.00 Sammanfattning</p><h2>Kommer tillfället att bandas in?</h2><p>Presentationerna bandas inte in.</p><p>&nbsp;</p><p>Du behöver inte anmäla dig på förhand.</p><p><a href="https://teams.microsoft.com/l/meetup-join/19%3ameeting_ZTdlOGQ1M2YtZjI4YS00ZWQ3LThhYWYtMjFmOTFmZTYwNGM1%40thread.v2/0?context=%7b%22Tid%22%3a%22ca8dd34c-ed0b-4236-92cb-5644bfcfaed6%22%2c%22Oid%22%3a%22e541d5ec-347e-45c2-89f1-1bfbb9dba5ca%22%7d">Delta i träffen via den här Teams-länken!</a></p>
LOCATION:Teams
END:VEVENT
END:VCALENDAR