BEGIN:VCALENDAR
VERSION:2.0
PRODID:-//kirjastotfi/procal//NONSGML v1.0//EN
BEGIN:VEVENT
DTSTART:20241114T120000
DTEND:20241114T153000
SUMMARY:Läsfest-webbinarium 14.11.2024
DESCRIPTION:<p><strong>Läsfest på Bibliotekskanalen 14.11.2024</strong></p><p><strong>Läsfrämjande i fokus: bibliotekets uppdrag</strong></p><p>Hur kan biblioteken göra skillnad för de barn och unga som kämpar med läsningen? Kom med på vårt webbinarium, där vi belyser hur bibliotek kan spela en avgörande roll i att stötta svaga läsare. Forskare och bibliotekspersonal delar med sig av insikter, forskning och konkreta metoder för att ge oss en bild av nuläget samt inspirera oss till att jobba vidare.</p><p>Webbinariet hålls kl. 12-15.30 och ordnas i samarbete mellan SJK Erte och Bibliotekskanalen.</p><p>Bekanta dig med programmet på <a href="www.lukulystit.fi">Läsfests webbplats</a> och följ med webbinariet direkt <a href="https://www.kirjastokaista.fi/sv/live">på&nbsp;Bibliotekskanalen</a>.</p><p>Läsfesten kräver ingen förhandsanmälan och presentationerna sparas och kan ses textade senare på Bibliotekskanalen.&nbsp;</p>
LOCATION:
END:VEVENT
END:VCALENDAR