BEGIN:VCALENDAR
VERSION:2.0
PRODID:-//kirjastotfi/procal//NONSGML v1.0//EN
BEGIN:VEVENT
DTSTART:20241112T130000
DTEND:20241112T134500
SUMMARY:Kirjastojen lakipäivä 3/2024: lapsen oikeudet
DESCRIPTION:<p><span>Vuoden 2024 viimeinen avien kirjastotoimen järjestämä lakiwebinaari keskittyy lapsen oikeuksiin. Aiheesta alustaa Itä-Suomen yliopiston oikeustieteen, erityisesti lapsi- ja koulutusoikeuden professori </span><em><span>Suvianna Hakalehto</span></em><span>. Voit lähettää tilaisuuteen etukäteiskysymyksiä ilmoittautumisen yhteydessä.</span></p><p><span>Tapahtumaa ei tallenneta.</span></p><h3><span>Lisätiedot</span></h3><p><span>Kirjastotoimen ylitarkastaja Mika Mustikkamäki, etunimi.sukunimi@avi.fi, p. 029 501 8843</span></p>
LOCATION:Microsoft Teams
END:VEVENT
END:VCALENDAR