BEGIN:VCALENDAR
VERSION:2.0
PRODID:-//kirjastotfi/procal//NONSGML v1.0//EN
BEGIN:VEVENT
DTSTART:20241029T140000
DTEND:20241029T150000
SUMMARY:Lastenkirjakahvit
DESCRIPTION:<p>Lokakuun lastenkirjakahvit järjestetään tiistaina 29.10.<strong>&nbsp;</strong>klo 14 Teams-etäyhteydellä.</p><p>Lastenkirjakahveilla keskustellaan ajankohtaisista lasten- ja nuortenkirjoista. Voit esitellä lukemasi kirjan tai tulla kuuntelemaan, mitä muut ovat lukeneet.</p><p>Lastenkirjakahvit järjestetään Teams-etäyhteydellä:&nbsp;<a href="https://bit.ly/lokakuunlastenkirjakahvit24">bit.ly/lokakuunlastenkirjakahvit24</a></p><p>Lastenkirjakahveille ovat tervetulleita kaikki lasten- ja nuortenkirjallisuudesta kiinnostuneet aikuiset!</p>
LOCATION:
END:VEVENT
END:VCALENDAR