BEGIN:VCALENDAR
VERSION:2.0
PRODID:-//kirjastotfi/procal//NONSGML v1.0//EN
BEGIN:VEVENT
DTSTART:20241002T093000
DTEND:20241002T110000
SUMMARY:Ertes distanstips: En förmiddag om skolbibliotek
DESCRIPTION:<p>Välkommen till ett inspirerande distanswebbinarium på svenska den 2 oktober kl. 9.30–11.00!</p><p><strong>PROGRAM</strong></p><p><strong>kl. 9.30-10.15 Sveriges skolbibliotekssatsning</strong><br>Jenny Nilsson berättar som skolbibliotekssatsningen i Sverige och ger oss en överblick över hur läget ser ut idag.</p><p><strong>kl. 10.15-11.00 Skolbiblioteksutredningen i Svenskfinland</strong><br>Mikael Gros jobbar som projektansvarig på Sydkustens landskapsförbund. Han avslöjar de första resultaten av en omfattande skolbiblioteksutredning från&nbsp;Svenskfinland.</p><p><a href="https://www.sjkerte.fi/sv/events/ertes-distanstips-en-formiddag-om-skolbibliotek"><strong>Anmäl dig på Ertes webbsida!</strong></a></p><p><em>Webinaret spelas in och länken till inspelningen skickas till alla som anmält sig till utbildningen. Inspelningen kan ses i 12 dagar.</em></p>
LOCATION:Teams
END:VEVENT
END:VCALENDAR