BEGIN:VCALENDAR
VERSION:2.0
PRODID:-//kirjastotfi/procal//NONSGML v1.0//EN
BEGIN:VEVENT
DTSTART:20240925T123000
DTEND:20240925T150000
SUMMARY:Opi osallisuutta: Rohkeutta ja työkaluja ottaa kaikki mukaan -webinaari
DESCRIPTION:<h3>Miten ottaa asiakkaat ja muut toimijat mukaan kirjaston toiminnan ja tilojen suunnitteluun?</h3><p>AKE Porvoo järjestää syys-lokakuussa osallisuuteen ja osallistamiseen liittyvän <em>Opi osallisuutta</em> -koulutuskokonaisuuden, jossa voit oppia lisää työkaluja ja saat rohkeutta ottaa asiakkaat ja muutkin toimijat entistä vahvemmin mukaan kirjastosi toiminnan kehittämiseen, oli kyse palveluista, tapahtumista, tiloista tai muunlaisista tarpeista.</p><p>Aloitamme kirjastojen parhailla kokemuksilla yhteiskehittämisestä ja asiakkaiden osallistumisesta. Keskustelevassa webinaarissa pääset kysymään juuri sinua kiinnostavista asioista ja nappaamaan parhaat ideat omaan toimintaan.</p><p>Koulutuksen toisessa osassa pääset harjoittelemaan käytännössä erilaisia menetelmiä. Webinaariin mahtuu mukaan isompi joukko osallistujia, käytännön harjoituspäivään 20-30 osallistujaa.</p><h3>Kouluttaja</h3><p>Kouluttajana toimii vertaisarvioitu ratkaisukeskeinen valmentaja ja fasilitaattori <strong>Lari Karreinen</strong> Osana Oy:sta.</p><p>Osallistujille tuli olo, että he ovat etusijalla ja ovat turvassa. Ohjasitte kirjaston kehittämisprosessia olematta ohjaajia.</p><h3>Webinaarin ohjelma</h3><p>Webinaarissa esitellään käytännössä Uudenmaan eri kirjastojen osallisuusesimerkkejä ja niissä hyödynnettyjä osallistamismenetelmiä. Osallistujat pääsevät myös oppimaan toisiltaan aiheesta. Webinaarin vetää kouluttaja Lari Karreinen.</p><p>Webinaarissa esittelyssä:</p><ul><li>Keravan kirjasto ja nuorten osallisuus / <strong>Anna Jalo</strong>, nuorten kirjastopedagogi</li><li>Loviisan kirjasto ja uuden kirjaston suunnittelu / <strong>Jaana Laaksonen</strong>, hankesuunnittelija</li><li>Helsingin kaupunginkirjasto ja asiakasyhteisö Kirjastoheimo / <strong>Satu Niskanen</strong>, informaatikko, asukasosallisuus ja kumppanuudet</li></ul><p>Nuorten kirjastopedagogi Anna Jalo puolestaan kertoo, kuinka keravalaiset nuoret keskustelevat, vaikuttavat, ilmaisevat itseään ja tekevät tapahtumia, sekä miten sellaista mahdollistetaan.</p><p>Loviisan hankkeessa Kirjaston kautta merkityksellisyyteen – Kirjaston tila- ja palvelutarpeiden osallistava kartoitus hankesuunnittelija Jaana Laaksonen on osallistanut laajasti eri toimijoita kirjaston tilojen suunnitteluun liittyen. Toiveissa on uusi kirjastotalo, ja osallistamisella tavoitellaankin kirjaston merkityksen ymmärtämistä ja uusia panostuksia kirjaston kehittämiseen.&nbsp;</p><p>Helsingin kaupunginkirjaston informaatikko Satu Niskanen kertoo kirjaston asiakasyhteisöstä Kirjastoheimosta, jossa vapaaehtoiset kaupunkilaiset osallistuvat kirjastotoiminnan suunnitteluun ja arviointiin.&nbsp;</p><p>Keskustelemme esitysten jälkeen pienryhmissä ja esiintyjät vastaavat kysymyksiin. Osallistuthan kuvan ja äänen kanssa, mikäli mahdollista. Kysymyksiä voi esittää myös chatin kautta.</p><h3>Kenelle?</h3><p>Koulutuskokonaisuus on suunnattu kaikille, jotka tarvitsevat työssään osallistavia menetelmiä. Koulutus on tarkoitettu ensisijaisesti Uudenmaan yleisissä kirjastoissa työskenteleville kirjastoammattilaisille, webinaariin voi tulla mukaan myös muilta alueilta.</p><h3>Lisätiedot ja ilmoittautuminen</h3><p>Ilmoittaudu mukaan viimeistään 20.9. Saat teams-linkin ilmoittautumisajan päätyttyä. <a href="https://link.webropolsurveys.com/EP/0B87FADFC7B70B5F">Ilmoittautumislinkki webinaariin</a></p><p>Muista myös koulutuksen toinen osa:</p><p><a href="https://uudenmaankirjastot.fi/events/opi-osallisuutta-rohkeutta-ja-tyokaluja-ottaa-kaikki-mukaan-harjoituspaiva/">Osa 2 9.10. Klo 9-16 Vaikuttava osallisuus ja käytännön fasilitointimenetelmät kirjastoille, Keravan kirjasto, Pentinkulma-sali</a></p>
LOCATION:Teams
END:VEVENT
END:VCALENDAR