BEGIN:VCALENDAR
VERSION:2.0
PRODID:-//kirjastotfi/procal//NONSGML v1.0//EN
BEGIN:VEVENT
DTSTART:20240927T100000
DTEND:20240927T110000
SUMMARY:Ratkaisukahvit #42: Hyvin sanoitettu, selkeä kirjasto!
DESCRIPTION:<p><strong>PiKe-alueen verkostovetoiset Ratkaisukahvit! Kokoonnumme perjantaina 27.9. klo 10.00 linjoille etäyhteyksin vaihtamaan ajatuksia kirjastoalan ajankohtaisista asioista. Tervetuloa mukaan kahvittelemaan, keskustelemaan ja oppimaan uutta yhdessä muiden kollegoiden kanssa.&nbsp;☕️</strong></p><p>Syyskuun Ratkaisukahveilla pääsemme keskustelemaan ja jakamaan ajatuksia selkeästä kielestä, selkokielisyydestä ja yhdenvertaisesta kirjastosta akepiken elokuun opiskelumateriaalien kautta. Minkälaisia ajatuksia selkokielinen viestintä, Celia-kirjaston palvelut tai erilaisia oppimisen tapoja huomioiva kirjastotyö herättää sinussa ja työyhteisössäsi? <a href="https://miro.com/app/board/uXjVKiRfrRE=/?moveToWidget=3458764599131005127&amp;cot=14">Voit kirjata askarruttavia kysymyksiäsi myös ennakkoon verkostojen kuumalinjan uudelle työskentelypohjalle ohesta.</a></p><p>Langoille liittyy suunnittelija <strong>Elina Kilpiö </strong>Celia-saavutettavuuskirjastosta. Keskustelua vetää Piken esteettömyys- ja saavutettavuusverkoston puheenjohtaja <strong>Maria Rissanen</strong>. Ennen osallistumista voit perehtyä seuraaviin akepiken opiskelumateriaaleihin:</p><ul><li>Onnistu tiedonhaussa ja löydä lähteitä – kirjastojen yhteiset palvelut<br>Ke 21.8.&nbsp;klo 10 – 11:30<br><a href="https://akepike.fi/koulutus/onnistu-tiedonhaussa-ja-loyda-lahteita-kirjastojen-yhteiset-palvelut/">Tallenne ja materiaalit Liboppi-oppimisalustalla.</a></li><li>Erityisiä kohtaamisia kirjastossa<br>Ti 27.8.&nbsp;klo 13 – 15<br><a href="https://akepike.fi/koulutus/erityisia-kohtaamisia-kirjastossa/">Tallenne katsottavissa vuoden 2024 loppuun asti.</a></li><li>Selkoviestintä tutuksi!<br>Ke 28.08.&nbsp;klo 10 – 11<br><a href="https://akepike.fi/koulutus/selkoviestinta-tutuksi/">Tallenne katsottavissa 12.9.2024 asti ohesta.</a></li></ul><h2><strong>Aikataulu ja ohjelma</strong></h2><p><strong>Ratkaisukahvit #42: Hyvin sanoitettu, selkeä kirjasto</strong>!<br><strong>Pe 27.9.2024</strong><br><strong>Klo 10.00–11.00</strong><br><strong>Etälähetys</strong></p><p><strong>Osallistu ilman ennakkoilmoittautumista osoitteessa akepike.fi</strong></p><p>Klo 10.00–10.30 Siirtyminen CD:stä verkkoon /<strong> Elina Kilpiö</strong>, suunnittelija (Saavutettavuuskirjasto Celia)</p><p>Klo 10.30–11.00 Yhdenvertaisemmat kirjastopalvelut kaikille – koulutusten jälkeiset esa-pulinat / <strong>Maria Rissanen,</strong> kirjastonhoitaja (Tampereen kaupunginkirjasto) vetää keskustelua</p><p><em>Tilaisuuden järjestää Tampereen kaupunginkirjasto. Tampereen kaupunginkirjastolla on alueellinen kehittämistehtävä Pirkanmaan ja Keski-Suomen alueella. Kuvat ja tunnelmat somessa, käytä tunnistetta: #akepike.</em></p><h2><strong>Lisätiedot</strong></h2><p>Kirjastonhoitaja Maria Rissanen<br>maria.rissanen(a)tampere.fi<br><br>Koordinaattori Juliaana Grahn<br>juliaana.grahn(a)tampere.fi<br><br>Projektisuunnittelija Mervi Hietanen<br>mervi.hietanen(a)tampere.fi&nbsp;<br><br>Projektisuunnittelija Kaisa Palomäki<br>kaisa.palomaki(a)tampere.fi</p>
LOCATION:Teams
END:VEVENT
END:VCALENDAR