BEGIN:VCALENDAR
VERSION:2.0
PRODID:-//kirjastotfi/procal//NONSGML v1.0//EN
BEGIN:VEVENT
DTSTART:20241128T130000
DTEND:20241128T150000
SUMMARY:Kuulovammaisena digituessa -valmennus
DESCRIPTION:<p><span>Suomessa on noin 800 000 henkilöä, joilla on jonkinasteinen kuulonalenema. Miten huomioimme kuulovammaisten tarpeet kirjaston asiakaspalvelussa ja digituessa? Kuuloliiton valmennuksessa käydään läpi miten voimme huomioida </span><em><span>kuulovammaisen osallistujan tarpeet digituessa:</span></em></p><p><span>&nbsp;</span></p><p><span>Valmennuksen sisältöön kuuluu mm.</span></p><ul type="disc"><li>Mikä on kuulovamma ja miten se vaikuttaa vuorovaikutukseen</li><li>Mikä on induktiosilmukka, kirjoitus- ja viittomakielentulkkaus</li><li>Apuvälineet kuulovammaisen apuna</li><li>Käytännön vinkit: miten huomioidaan kuulovammaisen tarpeet digituessa</li><li>Mitä asioita on hyvä katsoa kuulovammaisen ikäihmisen kanssa puhelimesta</li><li>Miten etätapaamisista voidaan saada saavutettavampia.”</li></ul>
LOCATION:Teams
END:VEVENT
END:VCALENDAR