BEGIN:VCALENDAR
VERSION:2.0
PRODID:-//kirjastotfi/procal//NONSGML v1.0//EN
BEGIN:VEVENT
DTSTART:20240910T090000
DTEND:20240910T093000
SUMMARY:Celian kyselytunti kirjastoille 10.9.2024
DESCRIPTION:<p>Syksyn ensimmäinen kyselytunti on tiistaina 10.9. 2024 klo 9.00-9.30. Aiheina ovat Celian siirtymä äänikirjojen lainauksessa ainoastaan verkkopalveluun, siirtymän vaikutukset asiakkaiden rekisteröintiin, CD-levyjen lainaukseen ja kirjastojen CD-kokoelmaan ja Celian tuki kirjastoille siirtymän aikana. Kyselytunnin vetää Celian asiakkuus- ja yhteiskuntasuhdejohtaja Rauha Maarno.&nbsp;</p><p>Tervetuloa mukaan! Ei ennakkoilmoittautumista.</p>
LOCATION:verkossa
END:VEVENT
END:VCALENDAR