BEGIN:VCALENDAR
VERSION:2.0
PRODID:-//kirjastotfi/procal//NONSGML v1.0//EN
BEGIN:VEVENT
DTSTART:20240930T160000
DTEND:20240930T170000
SUMMARY:Lastenkirjainstituutin kirjaston etäesittely
DESCRIPTION:<p><strong>Tutustu Lastenkirjainstituutin kirjastoon etänä maanantaina 30.9. klo 16–17</strong></p><p>Etäesittelyssä kuulet kirjaston kokoelmista ja palveluista. Saat myös opastusta ja apua tiedonhakuun uudistuneessa Onnet-tietokannassa. Lisäksi tutustut uudet lasten- ja nuortenkirjat kokoavaan Lukemo-sivustoon.</p><p>Lastenkirjainstituutin kirjasto on lasten- ja nuortenkirjallisuutta sekä sen tutkimusta tallentava erikoiskirjasto Tampereella. Lainattavan tutkimuskirjallisuuden lisäksi kirjastossa on reilut 70 000 lasten- ja nuortenkirjaa kuluvan vuoden uutuuksista aiempien sukupolvien aarteisiin.</p><p>Etäesittelytilaisuus on tarkoitettu opiskelijoille ja tutkijoille sekä kaikille muille kirjastosta ja sen käytöstä kiinnostuneille. Osallistu esittelyyn Teams-yhteydellä: <a href="https://bit.ly/kirjastoesittely24">bit.ly/kirjastoesittely24</a>.</p><p>Lämpimästi tervetuloa!</p><p><strong>Lisätietoa:</strong><br>kirjastonhoitaja Anna Tiitinen<br>kirjasto(a)lastenkirjainstituutti.fi<br>Lastenkirjainstituutti<br>Puutarhakatu 11 A, 33210 TAMPERE<br><a href="http://www.lastenkirjainstituutti.fi/">www.lastenkirjainstituutti.fi</a></p>
LOCATION:
END:VEVENT
END:VCALENDAR