BEGIN:VCALENDAR
VERSION:2.0
PRODID:-//kirjastotfi/procal//NONSGML v1.0//EN
BEGIN:VEVENT
DTSTART:20240926T140000
DTEND:20240926T150000
SUMMARY:Lastenkirjakahvit
DESCRIPTION:<p>Lastenkirjakahveilla keskustellaan ajankohtaisista lasten- ja nuortenkirjoista.</p><p>Voit esitellä lukemasi kirjan tai tulla kuuntelemaan, mitä muut ovat lukeneet.</p><p>Lastenkirjakahvit järjestetään Teams-etäyhteydellä: <a href="https://bit.ly/syyskuunlastenkirjakahvit24">https://bit.ly/syyskuunlastenkirjakahvit24</a></p><p>Lastenkirjakahveille ovat tervetulleita kaikki lasten- ja nuortenkirjallisuudesta kiinnostuneet aikuiset!</p>
LOCATION:
END:VEVENT
END:VCALENDAR