BEGIN:VCALENDAR
VERSION:2.0
PRODID:-//kirjastotfi/procal//NONSGML v1.0//EN
BEGIN:VEVENT
DTSTART:20241030T090000
DTEND:20241030T095000
SUMMARY:Lahden AKEn etäkahvit: Vieraana Celia
DESCRIPTION:<p>Lahden AKEn järjestämillä kirjastohenkilökunnan etäkahveilla kuullaan alueen kirjastoille tärkeät, ajankohtaiset kuulumiset kirjastoalalta ja yhteistyökumppaneilta. Tällä kertaa vieraanamme on Saavutettavuuskirjasto Celia.</p><p>Saavutettavuuskirjasto Celiaan on tulossa muutoksia tulevan vuoden aikana. Muutokset koskevat yleisissä kirjastoissa mm. asiakkaiden rekisteröintiä ja äänikirjakokoelmia, joten niistä kannattaa olla kartalla kaikkien kirjaston asiakaspalvelussa työskentelevien.</p><p>Muutoksista kertoo asiantuntija Celian kirjastopalveluista. Tilaisuudessa kuullaan mielellään kirjastokentän kommentteja ja vastataan kysymyksiin. Tule mukaan!</p><h2><strong>Alustava aikataulu</strong></h2><ul><li>klo 9–9.10 Lahden AKEn ajankohtaiset</li><li>klo 9.10–9.40 Saavutettavuuskirjasto Celian tulevat muutokset</li><li>klo 9.40–9.50 Loppukeskustelu</li></ul><h2><strong>Mukaan etäkahveille</strong></h2><p>Etäkahvien Teams-linkki lisätään <a href="https://lahdenake.fi/koulutus/lahden-aken-etakahvit/">koulutusilmoitukseen</a> myöhemmin.</p><p>Etäkahvien Teams-kutsut jaetaan myös Lahden AKE-alueen kirjastojen yleisiin sähköposteihin, josta niitä voi välittää eteenpäin kirjastojen henkilökunnalle.</p>
LOCATION:Teams-etäkoulutus
END:VEVENT
END:VCALENDAR