BEGIN:VCALENDAR
VERSION:2.0
PRODID:-//kirjastotfi/procal//NONSGML v1.0//EN
BEGIN:VEVENT
DTSTART:20240923T100000
DTEND:20240923T110000
SUMMARY:Sanaston lupavalikoima ja ajankohtaiset asiat kirjastoille 
DESCRIPTION:<p><span>Milloin kirjasto tarvitsee luvan kirjallisuuden käyttöön? Mitä luparatkaisuja Sanasto tarjoaa? Webinaarissa käydään tiiviisti läpi kaikki olennainen, mitä kirjastojen tulee tietää kirjallisuuden käytöstä ja luvista. Aikaa varataan myös osallistujien kysymyksille.</span></p><p><span>Käymme läpi kirjastojen verkkoluvan ajankohtaisen tilanteen ja kerromme luvanhakua helpottavasta uudesta "Sanaston edustamat tekijät" -listauksesta. Vastaamme myös näitä koskeviin kysymyksiin. ﻿</span></p><p><span>Webinaarin vetävät Sanaston&nbsp;yhteiskuntasuhde- ja lupakehitysasiantuntija </span><strong>Heini Eskelinen-Räsänen</strong><span> sekä viestintä- ja markkinointipäällikkö </span><strong>Maija Lielahti.&nbsp;</strong></p><p><span>Koulutus on suunnattu kirjastoille. Ilmoittautuneet voivat katsoa webinaarin jälkikäteen tallenteena 30 päivän ajan.</span></p>
LOCATION:etäkoulutus 
END:VEVENT
END:VCALENDAR