BEGIN:VCALENDAR
VERSION:2.0
PRODID:-//kirjastotfi/procal//NONSGML v1.0//EN
BEGIN:VEVENT
DTSTART:20241015T090000
DTEND:20241015T120000
SUMMARY:Kirjastoenglantia - Syvennetään englanniksi esiintymistä
DESCRIPTION:<p>Tuleeko työssäsi vastaan tilanteita, joissa esittelet kirjaston tiloja ja palveluja englanniksi joko asiakkaalle tai kansainvälisille vieraille? Tässä 15.10. klo 9-12 etänä toteuttavassa koulutuksessa pääset harjoittelemaan työhön liittyviä, suullista englannin taitoa vaativia tilanteita rennosti ja mukavassa hengessä.</p><h2><strong>Sisältö</strong></h2><ul><li>ääntämisvihjeitä (yksilöharjoittelua)</li><li>paljon puheharjoituksia</li><li>miten esittelen kirjastoa ja sen tiloja englanniksi</li><li>kuinka kerron asiakkaalle kirjaston erilaisista palveluista: harrastehuoneet, yhteiset tilat ja kirjaston tapahtumat</li><li>Kirjaston palvelun rajoitteet</li></ul><p>Koulutus pidetään englanniksi, mutta opettaja tukee osallistujia tarvittaessa myös suomeksi. Ennakkotehtävänä palautellaan mieleen mm. kirjaston tila- ja tuotesanastoa sanastolistojen avulla.</p><h2><strong>Kouluttaja</strong></h2><p>Kouluttajana toimii aiemmista Kirjastoenglantia-webinaareista tuttu <strong>Petri Ilmonen</strong> (KM) / TRYcamps kielikoulu Oy.</p><h2><strong>Kohderyhmä ja ilmoittautuminen</strong></h2><p>Koulutus on suunnattu aiemmin järjestettyihin Kirjastoenglantia-webinaareihin 1–3 osallistuneille tai englannin kielen vastaavat taidot jo osaaville.</p><p><a href="https://link.webropolsurveys.com/EP/95038F57F5125D6A">Ilmoittaudu koulutukseen Webropol-lomakkeella viimeistään 7.10.2024.</a><br>Ilmoittautumislomakkeella pääset myös halutessasi kertomaan, missä työtehtävissä tarvitset englantia.</p><h2><strong>Muut vastaavat koulutukset</strong></h2><p><a href="https://lahdenake.fi/koulutus/kirjastoenglantia-syvennetaan-englanniksi-esiintymista-2/">Toinen samansisältöinen koulutus järjestetään 7.11.2024 klo 9-12 - lisätietoa siitä täällä.</a></p>
LOCATION:Teams-etäkoulutus
END:VEVENT
END:VCALENDAR