BEGIN:VCALENDAR
VERSION:2.0
PRODID:-//kirjastotfi/procal//NONSGML v1.0//EN
BEGIN:VEVENT
DTSTART:20241003T130000
DTEND:20241003T153000
SUMMARY:Finna-tiedonhaku asiakaspalvelussa
DESCRIPTION:<p>3.10. järjestettävässä etäkoulutuksessa tutustutaan Finnan tiedonhakuun yleisen kirjaston asiakaspalvelun näkökulmasta. Luentotyyppisen Finna-opastuksen ohella pääset itsekin kokeilemaan erilaisia hakuja&nbsp; niin kansallisessa Finna.fi-palvelussa kuin kirjaston omassa Finna-verkkokirjastossa. &nbsp;</p><h2><strong>Koulutuksessa voidaan käsitellä esimerkiksi seuraavia aiheita</strong></h2><ul><li>Finnan rajaimet ja fasetit&nbsp;</li><li>Erilaiset hakutekniikat&nbsp;</li><li>Finna.fi kaukopalvelun työkaluna (Valmiit rajaukset)&nbsp;</li><li>Hakutulosten tallentaminen ja jatkohakujen tekeminen&nbsp;</li></ul><p>Kouluttajana toimii tietoasiantuntija <strong>Serafia Kari</strong> Kansalliskirjaston Kirjastoverkkopalveluiden Finna-tiimistä. Ilmoittautumislomakkeella voit esittää sinua askarruttavia kysymyksiä jo ennakkoon.</p><p>Koulutus järjestetään Teams-etäyhteydellä. Koulutuksessa testihakuja tehdään itsenäisesti ja yhdessä pohtien, ja harjoituksissa hyödynnetään myös Flinga-alustaa.</p><h2><strong>Finna — perusteet haltuun jo ennen koulutusta</strong></h2><p>Ennen osallistumista koulutukseen tutustu palveluun <a href="https://moodle.helsinki.fi/mod/lti/view.php?id=3563068">“Finna pähkinänkuoressa ja Finna-demo” ‑videon</a> kautta.</p><h2><strong>Kohderyhmä ja ilmoittautuminen</strong></h2><p>Koulutus on suunnattu kaikille asiakaspalvelua tekeville kirjastotyöntekijöille. Mukaan mahtuu maks. 25 osallistujaa, ja etusijalla ovat Lahden AKE-alueen (Etelä-Karjala, Kanta-Häme, Kymenlaakso, Päijät-Häme) yleisten kirjastojen työntekijät.&nbsp;</p><p><a href="https://link.webropolsurveys.com/EP/BD9735A764A54666">Ilmoittaudu koulutukseen tällä Webropol-lomakkeella viimeistään 25.9.</a></p>
LOCATION:Teams-etäkoulutus
END:VEVENT
END:VCALENDAR