BEGIN:VCALENDAR
VERSION:2.0
PRODID:-//kirjastotfi/procal//NONSGML v1.0//EN
BEGIN:VEVENT
DTSTART:20240926T090000
DTEND:20240926T093000
SUMMARY:Virkailijavaihtoinfo
DESCRIPTION:<p>Virkailijavaihtoinfo on tarkoitettu Vaasan Pohjanmaan, Keski-Pohjanmaan ja Etelä-Pohjanmaan kirjastojen henkilökunnalle.</p><p>Virkailijavaihto sai alueellamme runsaasti kiinnostusta keväällä ja moni kävi kokeilemassa työntekoa toisella paikkakunnalla. Nyt syksyllä on mahdollisuus lähteä AKEpampaksen alueen ulkopuolelle vaihtoon. Kiinnostaako Lappi, Ahvenanmaa tai jokin muu kohde Suomessa? Tule kuuntelemaan virkailijavaihdosta Teamsissa!</p>
LOCATION:Teams
END:VEVENT
END:VCALENDAR