BEGIN:VCALENDAR
VERSION:2.0
PRODID:-//kirjastotfi/procal//NONSGML v1.0//EN
BEGIN:VEVENT
DTSTART:20241204T090000
DTEND:20241204T103000
SUMMARY:Lahden ja Vaasan AKE:jen yhteiset johtajakahvit kirjastojen monialajohtajille osa 2
DESCRIPTION:<p>Johtajakahvien teemana on monialajohtajuus osana kirjastonjohtajan työtä. Nykyään monissa kunnissa hallinnolliset työt pirstaloituvat useamman eri toimialan kesken, jolloin esihenkilötyö vaatii monipuolista osaamista sekä ymmärrystä aloista, jotka eivät välttämättä ole ennestään tuttuja. Kuinka monialajohtajuus koetaan, minkälaisia työvälineitä on käytettävissä ja kuinka arjen haasteita taklataan?</p><p>Tule mukaan keskustelemaan ja jakamaan kokemuksia!</p><h2><strong>Tapaamiset Teamsissa:</strong></h2><ul><li>6.11.2024 klo 9:00-10:30<ul><li>Kaksi hattua, yhdet aivot -monialajohtamista kirjastossa/ Vaasan kaupunginkirjaston ja kulttuuripalvelujen johtaja Sanna Bondas</li></ul></li><li>4.12.2024 klo 9:00-10:30<ul><li>Dialoginen johtaminen/Tutkija Eeva Nummi</li></ul></li></ul><p><a href="https://link.webropolsurveys.com/EventParticipation/EventPublic/724f3bcd-c926-46a0-ae68-2ba8013e6b36?displayId=Fin3130519"><strong>Ilmoittautumislinkki molemmille etäkahveille.</strong></a></p><h2><strong>Lisätietoa</strong></h2><p>Annika Ilmola<br>palvelusuunnittelija<br>Vaasan kaupunginkirjasto, alueellinen kehittämistehtävä<br><a href="mailto:annika.ilmola@vaasa.fi">annika.ilmola@vaasa.fi</a> / 040 482&nbsp;3175</p><p>Hanna Pitkänen<br>kirjastopalvelukoordinaattori<br>Lahden kaupunginkirjasto, alueellinen kehittämistehtävä<br><a href="mailto:hanna.pitkanen2@lahti.fi">hanna.pitkanen2@lahti.fi</a> / 044 482&nbsp;6071</p>
LOCATION:Teams
END:VEVENT
END:VCALENDAR