BEGIN:VCALENDAR
VERSION:2.0
PRODID:-//kirjastotfi/procal//NONSGML v1.0//EN
BEGIN:VEVENT
DTSTART:20241106T090000
DTEND:20241106T103000
SUMMARY:Lahden ja Vaasan AKE:jen yhteiset johtajakahvit kirjastojen monialajohtajille osa 1
DESCRIPTION:<p>Tervetuloa Lahden ja Vaasan AKEjen yhteisille kirjaston monialajohtajien kahveille!</p><p>Johtajakahvien teemana on monialajohtajuus osana kirjastonjohtajan työtä. Nykyään monissa kunnissa hallinnolliset työt pirstaloituvat useamman eri toimialan kesken, jolloin esihenkilötyö vaatii monipuolista osaamista sekä ymmärrystä aloista, jotka eivät välttämättä ole ennestään tuttuja. Kuinka monialajohtajuus koetaan, minkälaisia työvälineitä on käytettävissä ja kuinka arjen haasteita taklataan?</p><p>Tule mukaan keskustelemaan ja jakamaan kokemuksia!</p><h2><strong>Tapaamiset Teamsissa</strong></h2><p>ke 6.11.2024 klo 9:00–10:30</p><ul><li>Kaksi hattua, yhdet aivot — monialajohtamista kirjastossa / Kulttuuri- ja kirjastotoimen johtaja <strong>Sanna Bondas</strong>, Vaasan kaupunki</li><li>Toinen puhuja varmistuu myöhemmin.</li></ul><p><br>ke 4.12.2024 klo 9:00–10:30</p><ul><li>Dialoginen johtaminen/ Tutkija Eeva Nummi</li></ul><p>&nbsp;</p><h2><strong>Ilmoittautuminen</strong></h2><p><a href="https://link.webropolsurveys.com/EP/8C55112A99651BCB">Tällä Webropol-lomakkeella pääset ilmoittautumaan molempiin edellä mainittuihin tilaisuuksiin.</a></p><h2><strong>Lisätietoa</strong></h2><p>Hanna Pitkänen<br>kirjastopalvelukoordinaattori<br>Lahden kaupunginkirjasto, alueellinen kehittämistehtävä<br><a href="mailto:hanna.pitkanen2@lahti.fi">hanna.pitkanen2@lahti.fi</a> / 044 482&nbsp;6071</p><p>Annika Ilmola<br>palvelusuunnittelija<br>Vaasan kaupunginkirjasto, alueellinen kehittämistehtävä<br><a href="mailto:annika.ilmola@vaasa.fi">annika.ilmola@vaasa.fi</a> / 040 482&nbsp;3175</p>
LOCATION:Teams
END:VEVENT
END:VCALENDAR