BEGIN:VCALENDAR
VERSION:2.0
PRODID:-//kirjastotfi/procal//NONSGML v1.0//EN
BEGIN:VEVENT
DTSTART:20240912T140000
DTEND:20240912T150000
SUMMARY:Liboppi-kahvit: Arjen digilukutaidot
DESCRIPTION:<p>AKE Porvoo järjestää 12.9. klo 14-15 Liboppi-kahvit, joilla esitellään elokuussa julkaistua kurssia Arjen digilukutaidot. Kahveilla on mukana myös pedagoginen informaatikko Hanne Korpelainen, joka on koonnut kurssin Liboppiin. Kurssin materiaalit pohjautuvat Digisivistys kansalaistaidoiksi -hankkeeseen. Hanke toteutettiin vuosina 2022–2023 yhteistyössä Faktabaarin, Helsingin kaupunginkirjaston sekä Kansalaisopistojen liiton kanssa.</p><h2>Kurssin sisältö</h2><p>Digitaalisella informaatiolukutaidolla tarkoitetaan kykyä löytää, tulkita, hallita, luoda ja levittää informaatiota turvallisesti ja asiallisesti digitaalisen teknologian avulla. Käytännössä se tarkoittaa esimerkiksi verkkohuijausten tunnistamista, algoritmien merkityksen ymmärtämistä sekä disinformaation torjumista.</p><p>Kurssi koostuu kuudesta osasta, joiden aikana tutustutaan virheellisen tiedon torjuntaan ja tunnistamiseen, algoritmeihin, verkkohäirintään ja digitaalisen tiedon keräämiseen ja omien henkilötietojen suojaamiseen verkossa.</p><p>Kurssin sisällöt auttavat omien digilukutaitojen vahvistamisessa, mutta materiaaleista löytyy myös vinkkejä, kuinka tukea kirjaston asiakkaiden digitaalista informaatiolukutaitoa.</p><h2>Kenelle?</h2><p>Kurssi on suunnattu kaikille kirjastolaisille, jotka haluavat syventää omaa informaatiolukutaitoaan.</p><p>Mikäli et pääse mukaan etäkahveille, kurssiin voi tutustua myös omatoimisesti osoitteessa <a href="https://liboppi.fi/suositukset/arjen-digilukutaidot/">liboppi.fi</a>. Löydät kurssin Kirjaston yhteiset -osiosta. Jos et ole vielä tottunut Liboppi-käyttäjä, saat kahveilla myös opastusta tunnusten tekemiseen ja sivuilla navigointiin.</p><p>Liboppi-kahveille ei tarvitse ilmoittautua etukäteen.</p><p><a href="https://teams.microsoft.com/l/meetup-join/19%3ameeting_NjBkMzgwNWUtNGU5Ny00MDdkLWIyMzYtODVlNmI0Y2U1ZDI2%40thread.v2/0?context=%7b%22Tid%22%3a%22ca8dd34c-ed0b-4236-92cb-5644bfcfaed6%22%2c%22Oid%22%3a%22e541d5ec-347e-45c2-89f1-1bfbb9dba5ca%22%7d">Liity mukaan Liboppi-kahveille tästä Teams-linkistä!</a></p><h2>Lisätietoja</h2><p><a href="mailto:Elina.Karioja@porvoo.fi">Elina.Karioja@porvoo.fi</a></p>
LOCATION:Teams
END:VEVENT
END:VCALENDAR