BEGIN:VCALENDAR
VERSION:2.0
PRODID:-//kirjastotfi/procal//NONSGML v1.0//EN
BEGIN:VEVENT
DTSTART:20240829T130000
DTEND:20240829T143000
SUMMARY:Kouluyhteistyön etäkahvit: Kohtaamisia oppilaiden ja opettajien kanssa
DESCRIPTION:<h2>Tervetuloa Lahden AKEn ja AKE Porvoon yhteisille kouluyhteistyön etäkahveille aloittamaan uutta lukuvuotta!</h2><p>Keskustelemme erityisesti kouluyhteistyön monipuolisista sisällöistä sekä eri ikäisten oppilaiden ja heidän opettajiensa kohtaamisesta kirjastotyössä. Etäkahvit järjestetään yhteistyössä Lahden ja Porvoon AKE-kirjastojen kesken. Tilaisuudessa on alustuksia, joita on toivottu aiemmin järjestämillämme yhteisillä tietopalvelukahveilla.</p><p>Mukana etäkahveilla on <strong>Mervi Heikkilä</strong> Seinäjoen kaupunginkirjastosta kertomassa <a href="https://www.sjkerte.fi/">Erten</a> syksyn kuulumisia. Lahden kaupunginkirjaston informaatikko <strong>Ilona Riekkola</strong> puolestaan paneutuu kouluyhteistyön monipuolisiin, ammatillisiin vaatimuksiin. Kirjastonhoitaja <strong>Anu Kalliola</strong> Klaukkalan kirjastosta tuo terveisiä pienen kunnan kouluyhteistyöstä ja vuorovaikutuksesta opettajien kanssa. Tervetuloa mukaan!</p><h3>Aikataulu</h3><p><strong>Torstaina 29.8.2024</strong><br><strong>klo 13.00–14.30, Teams</strong></p><p>klo 13.00 <strong>Tervetuloa!</strong> Noora Oluikpe &amp; Tiina Rajala<br>klo 13.10 <strong>Kuulumisia Ertestä</strong> Mervi Heikkilä, kehityspäällikkö, Seinäjoen kaupunginkirjasto, Erte<br>klo 13.20 <strong>Kouluyhteistyön monipuoliset ammatilliset vaatimukset</strong> Ilona Riekkola, informaatikko, Lahden kaupunginkirjasto<br>klo 14.00 <strong>Kouluyhteistyö ja vuorovaikutus opettajien kanssa</strong> Anu Kalliola, kirjastonhoitaja, Klaukkalan kirjasto</p><h3>Osallistuminen ja kohderyhmä</h3><p>Etäkahveille ovat tervetulleita kaikki aiheesta kiinnostuneet kirjastolaiset. Toivomme, että mahdollisimman moni osallistuisi etäkahveille kameran ja mikrofonin kera. Osallistuminen keskusteluun on kuitenkin vapaaehtoista ja mukaan voi tulla kuuntelemaankin. Teams-linkki löytyy koulutusilmoituksesta:</p><ul><li><a href="https://lahdenake.fi/koulutus/kouluyhteistyon-etakahvit-kohtaamisia-oppilaiden-ja-opettajien-kanssa/">Koulutusilmoitus Lahden AKE</a></li><li><a href="https://uudenmaankirjastot.fi/events/kouluyhteistyon-etakahvit-kohtaamisia-oppilaiden-ja-opettajien-kanssa/">Koulutusilmoitus AKE Porvoo</a></li></ul><h3>Lisätietoa</h3><p>Noora Oluikpe, sisältökoordinaattori (Lahden AKE), puh. 044 482 6154<br><a href="mailto: noora.oluikpe@lahti.fi">noora.oluikpe@lahti.fi</a></p><p>Tiina Rajala, informaatikko (Porvoon AKE), puh. 040 539 6368<br><a href="mailto: tiina.rajala@porvoo.fi">tiina.rajala@porvoo.fi</a></p>
LOCATION:Teams
END:VEVENT
END:VCALENDAR