BEGIN:VCALENDAR
VERSION:2.0
PRODID:-//kirjastotfi/procal//NONSGML v1.0//EN
BEGIN:VEVENT
DTSTART:20240924T083000
DTEND:20240924T100000
SUMMARY:Kirjastoseuran hallituksen aamukahvit; aiheena työntekijätutkimus
DESCRIPTION:<p>Tervetuloa Kirjastoseuran hallituksen aamukahveille Teamsiin tiistaina 24.9. klo 8.30-10, teemana kirjastoalan työntekijätutkimus "Mitä kuuluu kirjastolainen".</p><p>Aamukahveilla Kirjastoseuran hallitus johdattelee osallistujat ajankohtaisten aiheiden äärelle. Mukaan kutsutaan mielenkiintoisia vieraita ja puhujia. Kahveilla on aikaa myös osallistujien kysymyksille.</p><p>Syyskuun aamukahveilla esittelemme kesäkuussa julkaistun ”Mitä kuuluu, kirjastolainen” -työntekijäselvityksen tuloksia. Tutkimuksen mukaan kirjastojen työntekijät viihtyvät työssään poikkeuksellisen hyvin, mutta mitä muuta saimme selville?</p><p>Tuloksia esittele Kirjastoseuran viestintäpäällikkö <strong>Ville Vaarne</strong> ja keskustelua vetää seuran hallituksen jäsen. Tutkimuksen tuloksista lyhyen kommenttipuheenvuoron pitää seuran toiminnajohtaja <strong>Juha Manninen</strong>.</p><p>Aamukahvit ovat avoimet kaikille, joten tule mukaan kuuntelemaan, tutustumaan hallituslaisiin ja osallistumaan keskusteluun!</p><p>Voit tutustua tutkimukseen jo ennakkoon täällä: <a href="https://suomenkirjastoseura.fi/tutkimus-kirjastojen-tyontekijat-viihtyvat-tyossaan-poikkeuksellisen-hyvin/">tutkimus</a></p><p>Ilmoittaudu kahveille&nbsp;<a href="https://suomenkirjastoseura-lv.creamailer.fi/survey/xp1vckfc2d2zr">tästä ilmoittautumislinkistä</a>. Voit halutessasi lähettää puhujille ennakkoon kysymyksiä samasta linkistä! Lähetämme pe 20.9. mennessä ilmoittautuneille osallistumislinkin sähköpostitse.</p>
LOCATION:
END:VEVENT
END:VCALENDAR