BEGIN:VCALENDAR
VERSION:2.0
PRODID:-//kirjastotfi/procal//NONSGML v1.0//EN
BEGIN:VEVENT
DTSTART:20241108T091500
DTEND:20241108T153000
SUMMARY:Yleisön suosikit – suuria odotuksia kirjan molemmin puolin – Fiktiopäivä 8.11.2024
DESCRIPTION:<p>Tampereella pe 8.11.24 järjestettävän Fiktiopäivän teemana ovat yleisön suosikkikirjat, suosikkikirjailijat ja odotukset ja paineet kirjoittaessa “seuraavaa yleisön suosikkia”.</p><p>Puhujina Fiktiopäivässä kirjailijat <strong>Iida Turpeinen</strong>, <strong>Joonatan Tola</strong> ja<strong> Kale Puonti</strong>. Shared reading -metodia esittelee <strong>Anna Kähkönen</strong>.</p><p>Fiktiopäivä järjestetään pe 8.11.2024 Tampereella pääkirjasto Metsossa, Pirkankatu 2, klo 9.15–15.30. Ilmoittautuminen on nyt avoinna.</p><p><a href="https://suomenkirjastoseura-lv.creamailer.fi/survey/omogtzkidktfv">Ilmoittaudu tästä</a></p><p>Ilmoittautuminen päättyy lopullisesti 31.10.2024.</p><p>Lisätietoja tapahtuman omalta sivulta <a href="https://suomenkirjastoseura.fi/tapahtuma/yleison-suosikit-suuria-odotuksia-kirjan-molemmin-puolin-fiktiopaiva-8-11-2024/">täältä</a>.</p><p>Koulutuksen hinta 80 € Kirjastoseuran jäsenille, 95 € normaalihinta.</p><p>Kirjastoseuran opiskelijajäsenille koulutus on maksuton.</p><p>Fiktiopäivän järjestää Suomen kirjastoseuran fiktiotyöryhmä.</p>
LOCATION:Pääkirjasto Metso
END:VEVENT
END:VCALENDAR