BEGIN:VCALENDAR
VERSION:2.0
PRODID:-//kirjastotfi/procal//NONSGML v1.0//EN
BEGIN:VEVENT
DTSTART:20241127T090000
DTEND:20241127T120000
SUMMARY:Korkeakoulu- ja erikoiskirjastojen Finna-tapaaminen
DESCRIPTION:<p><span>Finnan asiakasorganisaatioille suunnatussa syyskauden yhteisessä tapaamisessa käydään läpi ajankohtaisia asioita ja esitellään uusia ominaisuuksia. Kuulemme mielellämme myös osallistujien näkemyksiä Finnan kehityksestä.</span></p><p><span>Tervetuloa mukaan!</span><br><br><a href="https://www.kiwi.fi/display/Finna/Korkeakoulu-+ja+erikoiskirjastojen+Finna-tapaaminen+27.11.2024">Lue lisää ja ilmoittaudu</a></p>
LOCATION:etätapahtuma
END:VEVENT
END:VCALENDAR