BEGIN:VCALENDAR
VERSION:2.0
PRODID:-//kirjastotfi/procal//NONSGML v1.0//EN
BEGIN:VEVENT
DTSTART:20241126T090000
DTEND:20241126T120000
SUMMARY:Yleisten kirjastojen Finna-tapaaminen
DESCRIPTION:<p><span>Finnan asiakasorganisaatioille suunnatussa syyskauden Finna-tapaamisessa esitellään Finnan uusia ominaisuuksia ja toimintoja. Lisäksi käydään läpi yhteisiä asioita sekä kuulumisia kirjastoilta.</span></p><p><span>Tervetuloa mukaan!</span></p><p><a href="https://www.kiwi.fi/display/Finna/Yleisten+kirjastojen+Finna-tapaaminen+26.11.2024"><span>Lue lisää ja ilmoittaudu</span></a><br>&nbsp;</p>
LOCATION:etätapahtuma
END:VEVENT
END:VCALENDAR