BEGIN:VCALENDAR
VERSION:2.0
PRODID:-//kirjastotfi/procal//NONSGML v1.0//EN
BEGIN:VEVENT
DTSTART:20240828T130000
DTEND:20240828T140000
SUMMARY:Liboppi-kahvit: Ympäristötyö kirjastoissa
DESCRIPTION:<p>Vaasan ja Porvoon AKEt järjestävät 28.8.2024 klo 13–14 yhteiset Liboppi-kahvit, jossa esitellään toukokuussa julkaistua kurssia Ympäristötyö kirjastoissa. Kahveilla on mukana myös Leila Väänänen Helsingin kaupunginkirjastosta, jonka ideasta Liboppi-kurssi on saanut alkunsa sekä Ella Metsälä Turun kaupunginkirjastosta, joka vetää <a href="https://ls-kirjastot.fi/koulutukset/ymparistotyo-kirjastoissa-kurssin-opintopiiri-3/">samannimistä kurssiin liittyvää opintopiiriä</a> Turun AKEn alueella.</p><h2>Kurssin sisältö</h2><p>Kurssi koostuu asiantuntijoiden kirjoittamista artikkeleista sekä <em>Kirjastojen ympäristötyö näkyväksi ja teräväksi</em> -hankkeen (2023) materiaaleista. Kurssi käsittelee ympäristökasvatusta sekä yleisellä tasolla että erityisesti kirjastoissa, ympäristötunteita, yleisten kirjastojen hiilijalanjälkeä sekä Agenda 2030 -tavoitteita. Voit käydä kurssia läpi oman kiinnostuksesi mukaan, sillä se sisältää paljon lisämateriaaleja. Kurssin tekemistä osissa suositellaan ja sen kesto on arviolta 6–8 tuntia.</p><h2>Kenelle?</h2><p>Kurssi on suunnattu kaikille kestävästä kehityksestä kiinnostuneille kirjastolaisille.</p><p>Mikäli et pääse mukaan etäkahveille, kurssiin voi tutustua myös omatoimisesti osoitteessa <a href="https://liboppi.fi/https://liboppi.fi/suositukset/ymparistotyo-kirjastoissa/">liboppi.fi</a>. Löydät kurssin Kirjaston yhteiset -osiosta. Jos et ole vielä tottunut Liboppi-käyttäjä, saat kahveilla myös opastusta tunnusten tekemiseen ja sivuilla navigointiin.</p><p>Liboppi-kahveille ei tarvitse ilmoittautua etukäteen, joten <a href="https://teams.microsoft.com/l/meetup-join/19%3ameeting_NDRhYzk3NjAtYzhhMC00MmJlLTljYjAtYzhjZTlkZjNhNWQ4%40thread.v2/0?context=%7b%22Tid%22%3a%22ca8dd34c-ed0b-4236-92cb-5644bfcfaed6%22%2c%22Oid%22%3a%22e541d5ec-347e-45c2-89f1-1bfbb9dba5ca%22%7d">liity mukaan tästä linkistä</a>.</p><p>Lisätietoa kirjastojen ympäristötyöstä löydät <a href="https://www.kirjastot.fi/vihreakirjasto">Vihreä kirjasto-sivustolta</a>. Sivusto edistää ympäristötyötä kirjastoissa, jakaa koko kirjastokentän ympäristötietoa, kehitettyjä ympäristötyökaluja sekä koulutusmateriaaleja. &nbsp;</p><h2>Lisätietoja</h2><p><a href="mailto:Elina.Karioja@porvoo.fi">Elina.Karioja@porvoo.f</a>i</p>
LOCATION:Teams
END:VEVENT
END:VCALENDAR