BEGIN:VCALENDAR
VERSION:2.0
PRODID:-//kirjastotfi/procal//NONSGML v1.0//EN
BEGIN:VEVENT
DTSTART:20241030T130000
DTEND:20241030T160000
SUMMARY:Finnan hallintaliittymän kyselytunti
DESCRIPTION:<p><span>Finnan asiakasorganisaatioille suunnatulla kyselytunnilla&nbsp;käsitellään oman Finna-näkymän luonnissa tai ylläpidossa esiin tulleita ongelmia sekä muita hallintaliittymän käyttöön liittyviä ajatuksia ja pulmia.</span></p><p><span>Tervetuloa mukaan!</span></p><p><a href="https://www.kiwi.fi/pages/viewpage.action?pageId=426213427"><span>Lue lisää ja ilmoittaudu</span></a></p>
LOCATION:etätapahtuma
END:VEVENT
END:VCALENDAR