BEGIN:VCALENDAR
VERSION:2.0
PRODID:-//kirjastotfi/procal//NONSGML v1.0//EN
BEGIN:VEVENT
DTSTART:20241024T140000
DTEND:20241024T153000
SUMMARY:Tietoisku: Moderointi Finnassa
DESCRIPTION:<p><span>Finna-alustalla toimivien verkkokirjastojen ja muiden sivustojen käyttäjien on mahdollista kommentoida ja arvostella eri aineistoja. Finnassa mukana olevien asiakasorganisaatioiden vastuulla on käydä läpi omien aineistojensa kommentteja ja tarvittaessa poistaa asiattomat kommentit näkyvistä. Moderointityön helpottamiseksi on viime vuoden aikana muodostettu Finnan moderointiperiaatteet.&nbsp;</span></p><p><span>Tietoiskussa käydään läpi Finnan moderointiperiaatteet sekä organisaatioiden moderointivastuut ja työkalut.&nbsp;</span></p><p><span>Lisäksi katsotaan miltä aihe näyttää käyttäjän näkökulmasta:</span></p><ul><li><span>Millaiset ohjeet Finnassa on kommentointiin.</span></li><li><span>Mistä käyttäjä näkee, jos hänen kommenttinsa on poistettu näkyvistä.</span></li></ul><p>Tervetuloa tietoiskuun!<br><br><a href="https://www.kiwi.fi/display/Finna/Tietoisku%3A+Moderointi+Finnassa+24.10.2024">Lue lisää ja ilmoittaudu</a></p>
LOCATION:etätapahtuma
END:VEVENT
END:VCALENDAR