BEGIN:VCALENDAR
VERSION:2.0
PRODID:-//kirjastotfi/procal//NONSGML v1.0//EN
BEGIN:VEVENT
DTSTART:20241002T090000
DTEND:20241002T120000
SUMMARY:Asiakaskohtaamisten inspiraatiopäivä
DESCRIPTION:<p>Kirjasto porskuttaa vuodesta toiseen asiakastutkimusten kärjessä, mutta pysähdymmekö kovinkaan usein ajattelemaan, miten kärkisija on mahdollinen? Ja mitä meidän pitäisi tehdä pysyäksemme edelleen kärjessä ja kehittääksemme toimintaa nyky-yhteiskunnan tarpeita vastaavaksi? AKE Porvoo tarttuu aiheeseen asiakaskohtaamisten inspiraatiowebinaarilla, jossa kuullaan innostavia esimerkkejä asiakaskokemuksen rakentamisesta ja asiakaspalvelun tärkeydestä.</p><p>Aiheeseen johdattaa Päivi Jokitalo ja asiakastutkimusten kärjessä kirjastojen kanssa paistatteleva Alko jatkaa. Olisiko Alkosta jotain oppia myös kirjastomaailmaan? Ja miksi asiakkaat palaavat aina Ikeaan?</p><p>Kuulemme inspiroivan esimerkin myös kirjastoalalta. Espoon kaupunginkirjasto on tehnyt pitkäjänteistä työtä asiakaspalvelun uudistamiseksi kehittämällä liikkuvan asiakaspalvelun mallia. Tiskit korvautuvat mobiilitiskeillä eli liikuteltavilla seisomapöydillä, joten tiskin takana ei enää istuta odottamassa asiakasta vaan mennään sinne, missä asiakkaat ovat. Lisäksi on kehitetty ”kutsunappi”, jonka avulla sekä asiakkaat että henkilökunta voivat kutsua apua paikalle tarvittaessa. Konseptista kertoo tarkemmin asiakaspalvelupäällikkö Heikki Koskinen.</p><p>Aamupäivän anti vedetään yhteen webinaarin päätteeksi Päivi Jokitalon johdolla.</p><h2>Ohjelma</h2><p>9.00–9.45 Tervetuloa – Miksi asiakaspalvelu on tärkeää? <strong>Päivi Jokitalo</strong>, kouluttaja</p><p>9.45–10.30 Case Alko. <strong>Sanna Puumalainen</strong>, asiakaskokemuspäällikkö</p><p>10.30–10.45 Tauko</p><p>10.45–11.15 Case Ikea. <strong>Maiju Kulmala</strong>, Country Customer Journey Leader</p><p>11.15–11.45 Case Espoon kaupunginkirjasto. <strong>Heikki Koskinen</strong>, kirjastopalvelupäällikkö</p><p>11.45–12 Yhteenveto</p><h2>Tuleeko tallenne?</h2><p>Alkon, Ikean ja Espoon kaupunginkirjaston puheenvuorot tallennetaan ja ne ovat saatavilla kahden viikon ajan.</p><h2>Kenelle?</h2><p>Inspiraatiopäivän tavoitteena on tarjota uusia ajatuksia ja ideoita kirjaston asiakaspalvelutyön kehittämisestä kiinnostuneille. Mukaan voi ilmoittautua myös Uudenmaan ulkopuolelta.</p><p>Ilmoittaudu mukaan inspiraatiopäivään 25.9. mennessä <a href="https://link.webropolsurveys.com/EP/AB313FD682EEB1F0">tästä linkistä</a>.</p><h2>Lisätietoja</h2><p><a href="mailto:Elina.Karioja@porvoo.fi">Elina.Karioja@porvoo.fi</a></p>
LOCATION:Teams
END:VEVENT
END:VCALENDAR