BEGIN:VCALENDAR
VERSION:2.0
PRODID:-//kirjastotfi/procal//NONSGML v1.0//EN
BEGIN:VEVENT
DTSTART:20241023T090000
DTEND:20241023T160000
SUMMARY:E-kirjastopäivä
DESCRIPTION:<p>Keskiviikkona 23.10.2024 järjestetään Helsingin keskustakirjasto Oodissa Maijansalissa kaikille kirjastojen työntekijöille suunnattu E-kirjastopäivä. Päivässä kuullaan E-kirjaston ajankohtaisia kuulumisia sekä vierailevien luennoitsijoiden näkemyksiä kirja-alan tulevaisuudesta ja kirjastojen e-lainauspalvelujen mahdollisuuksista. Päivässä myös esitellään uusi ohjausryhmä. Iltapäivällä E-kirjaston työryhmät esittelevät toimintaansa. Aamupäivään voi osallistua joko paikan päällä tai etänä, iltapäivään pelkästään paikan päällä. Myös etäosallistujat ilmoittautuvat tapahtumaan.</p><p>Osallistuminen päivään on maksutonta, mutta osallistujat maksavat itse matkansa sekä lounaansa.</p><h2 id="Ekirjastopäivä23.10.2024-Ohjelma">Ohjelma</h2><p>&nbsp;</p><ul><li>9-9.30: Aamukahvi</li><li>9.30-9.35&nbsp;<strong>Annastiina Louhisalmi</strong>: Tervetuloa</li><li>9.35-10.05 <strong>Mikkel Christoffersen</strong>: The success factors and the challenges of e-lending services</li><li>10.05-10.20&nbsp;<strong>Virva Nousiainen-Hiiri:</strong> Unelmasta E-kirjastoon</li></ul><p>10.20-10.30 Tauko</p><ul><li>10.30-11.10&nbsp;<strong>Minna Castrén</strong>:&nbsp;Kirjallisuuden tulevaisuus ja sen tekijät – kirjallisen kentän murrosta tutkimassa</li><li>11.10-12 <strong>Annastiina Louhisalmi:&nbsp;</strong>E-kirjaston ajankohtaiset kuulumiset sekä uuden ohjausryhmän ja työryhmien esittely.</li></ul><p>Klo 12-13: Lounastauko</p><p>Klo 13-15.30 (vain läsnäosallistuminen)</p><ul><li>E-kirjaston työryhmät esittäytyvät</li></ul><p><a href="https://www.kiwi.fi/x/gwJTG">Lue lisää E-kirjastopäivästä ja ilmoittaudu viimeistään 15.10. klo 12</a>. Huom: Myös etäosallistujat ilmoittautuvat.</p>
LOCATION:Oodi, Maijansali
END:VEVENT
END:VCALENDAR