BEGIN:VCALENDAR
VERSION:2.0
PRODID:-//kirjastotfi/procal//NONSGML v1.0//EN
BEGIN:VEVENT
DTSTART:20240920T090000
DTEND:20240920T113000
SUMMARY:Esihenkilöt Liboppiin: Sisällöt ja mahdollisuudet tutuiksi!
DESCRIPTION:<p>AKE-kirjastot kutsuvat tällä kertaa erityisesti johtajat ja esihenkilöt kautta Suomenmaan yhteiseen Liboppi-aamupäivään!</p><p>Aluksi kuulemme mitä kaikkea Libopista tällä hetkellä löytyy ja miten tähän on päästy. Kuinka motivoida ja rohkaista henkilökuntaa digitaalisten aineistojen pariin ja opiskelemaan itsenäisesti? Aihetta pohtii Digi- ja väestötietoviraston suunnittelija Mirva Gullman.</p><p>Nuorten kohtaaminen puhuttaa edelleen kirjastoissa ympäri maan. Tiesitkö, että Libopistakin löytyy aiheeseen liittyvä kurssi? Liboppi-kurssia Nuortenosastolle! sekä julkaisua Näe minut, kuule minut – opas nuorten kohtaamiseen kirjastossa esittelee kehityspäällikkö Mervi Heikkilä Seinäjoen kaupunginkirjaston Lasten ja nuorten lukutaitoa ja lukemista edistävien kirjastopalvelujen valtakunnallinen erityistehtävästä.</p><p>Aamupäivän päätteeksi kuulemme millaisia alueellisia erityispiirteitä Tampereen ja Lahden AKE-kirjastoilla on Libopin suhteen.</p><h2>Ohjelma</h2><p>9.00–9.15 Liboppi tänään. Elina Karioja, Liboppi-toimituskunnan puheenjohtaja, AKE Porvoo</p><p>9.15–10.00 Kuinka rohkaista ja motivoida henkilökuntaa verkko-opintojen pariin? Mirva Gullman, suunnittelija, DVV</p><p>10.00–10.15 Tauko</p><p>10.15–11.00 Liboppi-kurssiesittely Nuortenosastolle + Näe minut, kuule minut – opas nuorten kohtaamiseen kirjastossa, Mervi Heikkilä, kehityspäällikkö, Seinäjoen erityistehtävä</p><p>11.00–11.30 Alueelliset erityispiirteet esille! Juliaana Grahn, AKE Tampere ja Pasi Kangas, AKE Lahti</p><h2>Tuleeko tallenne?</h2><p>Esityksiä ei tallenneta.</p><h2>Kenelle?</h2><p>Tämä Liboppi-koulutusaamupäivä on suunnattu erityisesti johtajille ja esihenkilöille, mutta muutkin kiinnostuneet ovat tervetulleita mukaan.</p><p>Ilmoittaudu 13.9. mennessä <a href="https://link.webropolsurveys.com/EP/FA19609D6249C298">tästä linkistä</a>.</p><p>Saat Teams-linkin ilmoittautumisajan päätyttyä.</p><p>Lisätietoja: <a href="mailto:elina.karioja@porvoo.fi">elina.karioja@porvoo.fi</a></p>
LOCATION:Teams
END:VEVENT
END:VCALENDAR