BEGIN:VCALENDAR
VERSION:2.0
PRODID:-//kirjastotfi/procal//NONSGML v1.0//EN
BEGIN:VEVENT
DTSTART:20240912T130000
DTEND:20240912T140000
SUMMARY:E-kirjaston infotilaisuus: syyskuu
DESCRIPTION:<p>E-kirjasto järjestää syksyllä infotilaisuuksista ajankohtaisista asioista. Tilaisuuksien ohjelma ja ilmoittautumislinkki tulee <a href="https://www.kiwi.fi/x/tIGBFQ">tapahtumasivulle</a> myöhemmin.</p>
LOCATION:Webinaari
END:VEVENT
END:VCALENDAR