BEGIN:VCALENDAR
VERSION:2.0
PRODID:-//kirjastotfi/procal//NONSGML v1.0//EN
BEGIN:VEVENT
DTSTART:20240815T130000
DTEND:20240815T140000
SUMMARY:E-kirjaston infotilaisuus: Aineistot
DESCRIPTION:<p>Tässä infossa kerromme E-kirjaston aineistohankinnoista ja kokoelman muodostuksesta. Katso lisätiedot ja ilmoittaudu <a href="Tässä infossa kerromme E-kirjaston aineistohankinnoista ja kokoelman muodostuksesta. ">tapahtuman sivulla</a></p>
LOCATION:Zoom
END:VEVENT
END:VCALENDAR