BEGIN:VCALENDAR
VERSION:2.0
PRODID:-//kirjastotfi/procal//NONSGML v1.0//EN
BEGIN:VEVENT
DTSTART:20240917T090000
DTEND:20240917T101500
SUMMARY:Kuntien ja kirjastojen varautumistyö 
DESCRIPTION:<p><span>AVI kirjastotoimi ja alueelliset kehittämiskirjastot järjestävät 10.9. ja 17.9.2024 kirjastojen varautumispäivät.&nbsp;</span></p><p><span>17.9. 2024 Perehdymme kuntien varautumistoimintaan, jonka jälkeen siirrymme kirjastomaailmaan.&nbsp;Yhteisen webinaarin jälkeen siirrytään alueellisiin työpajoihin. Jokaiseen tilaisuuteen on erillinen ilmoittautuminen.&nbsp;</span></p><p><span>Varautumisella tarkoitetaan kaikkea sitä toimintaa, jolla valmistaudutaan erilaisiin häiriötilanteisiin ja varmistetaan tehtävien mahdollisimman häiriötön hoitaminen kaikissa turvallisuustilanteissa. Varautumiseen kuuluvia toimenpiteitä ovat muun muassa valmiussuunnittelu, muut etukäteisvalmistelut ja -järjestelyt, toimintavalmiuden ylläpitäminen, henkilöstön koulutus sekä mahdollisten häiriötilanteiden aikaisen toiminnan harjoittelu. Lisäksi varautumiseen kuuluu materiaalinen varautuminen, joka tarkoittaa varautumista materiaalien saatavuusongelmiin.&nbsp;&nbsp;</span></p><p><span>Varautumisen tavoitteena on pyrkiä ehkäisemään ennalta häiriö- ja kriisitilanteiden syntyminen sekä toisaalta luoda edellytyksiä tilanteiden ja niiden seurausten hallintaan.&nbsp;</span></p><p><span>Aika: 17.9.2024 klo 9–10.15</span></p><p><span>Paikka: Teams, linkki lähetetään ilmoittautuneille</span></p><p><span>Ilmoittautuminen:&nbsp; </span><a href="https://eventilla.avi.fi/event/M056v"><span>https://eventilla.avi.fi/event/M056v</span></a></p><h2>Kohderyhmä</h2><p dir="ltr"><span>Tilaisuus on suunnattu esihenkilöille ja kirjastojen varautumisesta vastaaville.</span></p><h2 dir="ltr">Ohjelma</h2><table><tbody><tr><td>9:00-9:45</td><td><span>Varautuminen ja valmiussuunnittelu julkisella sektorilla, Yliopettaja (Insinööri - YAMK) Jarmo Haapanen, Pelastusopisto</span></td></tr><tr><td>9:45-10:15</td><td><span>Kirjaston rooli kuntien varautumisessa ja valmiussuunnittelussa, kirjastopalvelujen johtaja Suvi Pirnes-Toivanen, Joensuun seutukirjasto</span></td></tr><tr><td>&nbsp;</td><td>&nbsp;</td></tr></tbody></table><h2 dir="ltr">Muut tiedot</h2><p dir="ltr">Tilaisuus on maksuton. Muutokset ohjelmaan ovat mahdollisia. Linkki tallenteeseen lähetetään ilmoittautuneille.<br><br>Muut tilaisuudet:</p><p dir="ltr"><span>Ilmoittautuminen 10.9. webinaariin: </span><a href="https://eventilla.avi.fi/event/D4o1v"><span>https://eventilla.avi.fi/event/D4o1v</span></a></p><p dir="ltr"><span>Ilmoittautuminen 17.9. työpajoihin:</span></p><p><span>Etelä-Suomen työpaja (Lahden ja Porvoon AKET): </span><a href="https://link.webropolsurveys.com/EP/8D661E7F78F60751"><span>https://link.webropolsurveys.com/EP/8D661E7F78F60751</span></a><span>&nbsp;&nbsp;</span></p><p><span>Itä-Suomen työpaja (Joensuun ja Kuopion AKET): </span><a href="https://link.webropolsurveys.com/EP/30EE39EBA4014631"><span>https://link.webropolsurveys.com/EP/30EE39EBA4014631</span></a><span>&nbsp;&nbsp;</span></p><p><span>Lapin ja Pohjois-Suomen työpaja (Oulun ja Rovaniemen AKET):</span> <a href="https://uusi.kuntapalvelut.fi/oulunkoulutuskalenteri/fi/course/4611/?expiry=2024-09-17T00%3A00%3A00.000Z&amp;reqid=50b3ddc9-7c6e-4abe-ab0b-c7ae99c85348&amp;unlistedid=4611&amp;hmac=75689549ad9ed02010e28b53390bb213bd4cd526f2d10b66adc2f0aa22cdcc42"><span>https://uusi.kuntapalvelut.fi/oulunkoulutuskalenteri/fi/course/4611/?expiry=2024-09-17T00%3A00%3A00.000Z&amp;reqid=50b3ddc9-7c6e-4abe-ab0b-c7ae99c85348&amp;unlistedid=4611&amp;hmac=75689549ad9ed02010e28b53390bb213bd4cd526f2d10b66adc2f0aa22cdcc42</span></a><span>&nbsp;&nbsp;</span></p><p><span>Lounais-Suomen työpaja (Turun AKE): </span><a href="https://www.lyyti.in/Valmiustyopaja_8914"><span>https://www.lyyti.in/Valmiustyopaja_8914</span></a><span>&nbsp;</span></p><p><span>Länsi- ja Sisä-Suomen työpaja (Vaasan ja Tampereen AKET):</span> <a href="https://elomake.tampere.fi/lomakkeet/29596/lomake.html"><span>https://elomake.tampere.fi/lomakkeet/29596/lomake.html</span></a><span>&nbsp;</span></p><h2 dir="ltr">Lisätietoja</h2><p><span>kirjastotoimen ylitarkastaja Virpi Launonen, virpi.launonen@avi.fi, puh. 0295 016 845&nbsp;</span></p><p><span>ylitarkastaja Marko Ojala, </span><a href="mailto:marko.ojala@avi.fi"><span>marko.ojala@avi.fi</span></a><span>, puh. 0295 016 175&nbsp;</span></p><p><span>ylitarkastaja Mervi Hotokka, </span><a href="mailto:mervi.hotokka@avi.fi"><span>mervi.hotokka@avi.fi</span></a><span>, puh. 0295 016 594&nbsp;</span></p>
LOCATION:
END:VEVENT
END:VCALENDAR