BEGIN:VCALENDAR
VERSION:2.0
PRODID:-//kirjastotfi/procal//NONSGML v1.0//EN
BEGIN:VEVENT
DTSTART:20240910T090000
DTEND:20240910T151000
SUMMARY:Ollos huoleton, kirjastos valmiin on - Näkökulmia kirjastojen varautumissuunnitteluun
DESCRIPTION:<p dir="ltr">AVI kirjastotoimi ja alueelliset kehittämiskirjastot järjestävät 10.9. ja 17.9.2024 kirjastojen varautumispäivät.</p><p><span>Turvallisuuspuhe on noussut osaksi myös kirjastojen arkea. Kaksiosaisen koulutuksen ensimmäisessä koulutuspäivässä kysytään, millaisiin ilmiöihin kirjastojen tulisi varautua osana varautumista. Ilmiöistä nostetaan esille yhteiskunnallinen resilienssi, ilmastonmuutos, disinformaatio, tekoäly ja hybridiuhat. Kuulemme lisäksi viestinnästä osana varautumista. Päivään meidät johdattelee yleinen varautumistematiikkaa käsittelevä puheenvuoro.&nbsp;&nbsp;</span></p><p><span>Toisena päivänä liikumme konkreettisemmalla tasolla. Ensin perehdymme kuntien varautumistoimintaan, jonka jälkeen siirrymme kirjastomaailmaan. Yhteisen webinaarin jälkeen siirrytään alueellisiin työpajoihin. Jokaiseen tilaisuuteen on erillinen ilmoittautuminen.&nbsp;</span></p><p><span>Aika: 10.9.2024 klo 9–15.15</span></p><p><span>Paikka: Kirjastokaista live, linkki lähetetään ilmoittautuneille</span></p><p><span>Ilmoittautuminen:&nbsp;</span><a href="https://eventilla.avi.fi/event/D4o1v"><span lang="FI">https://eventilla.avi.fi/event/D4o1v</span></a><span>&nbsp;</span></p><h2>Kohderyhmä</h2><p dir="ltr"><span>Tilaisuudet on suunnattu esihenkilöille ja kirjastojen varautumisesta vastaaville, mutta etenkin 10.9. webinaari sopii kaikille valmiusasioista kiinnostuneille.&nbsp;&nbsp;</span></p><h2 dir="ltr">Ohjelma</h2><table><tbody><tr><td>9:00-9:20</td><td>Tervetuloa koulutukseen,<span>kirjastotoimen ylitarkastaja Virpi Launonen &amp; ylitarkastaja Marko Ojala</span></td></tr><tr><td>9:20-10:00</td><td><span>Yleinen puheenvuoro valmiudesta, pelastusylitarkastaja Markku Hutka, Etelä-Suomen aluehallintovirasto</span></td></tr><tr><td>10:00-10:45</td><td><span>Yhteiskunnallinen resilienssi, yliopisto-opettaja Tapio Juntunen, Tampereen yliopisto</span></td></tr><tr><td>10:45-11:00</td><td>Tauko</td></tr><tr><td>11:00-11:45</td><td><span>Ilmastonmuutos, tutkimusprofessori Sami Romakkaniemi, Ilmatieteen laitos</span></td></tr><tr><td>11:45-12:45</td><td>Lounastauko</td></tr><tr><td>12:45-13:15</td><td><span>Miten varautua informaatiovaikuttamiseen ja mikä on informaatiolukutaidon rooli?, kirjastotoimen ylitarkastaja Anu Ojaranta, Lounais-Suomen aluehallintovirasto</span></td></tr><tr><td>13:15-13:45</td><td><span>Tekoäly ja kyberuhat, johtava asiantuntija Juhani Eronen, Traficomin Kyberturvallisuuskeskus</span></td></tr><tr><td>13:45-14:15</td><td><span>Hybridiuhat, tutkija Hanna Smith</span></td></tr><tr><td>14:15-14:30</td><td>Tauko</td></tr><tr><td>14:30-15:00</td><td><span>Viestintä osana valmiutta, (puhuja varmistuu myöhemmin)</span></td></tr><tr><td>15:00-15:10</td><td><span>Päätössanat, kirjastotoimen ylitarkastaja Virpi Launonen, Itä-Suomen aluehallintovirasto</span></td></tr><tr><td>&nbsp;</td><td>&nbsp;</td></tr></tbody></table><h2 dir="ltr">Muut tiedot</h2><p dir="ltr">Tilaisuus on maksuton. Muutokset ohjelmaan ovat mahdollisia. Tilaisuus tallennetaan.</p><p dir="ltr">Muut tilaisuudet:</p><p dir="ltr"><span>Ilmoittautuminen 17.9. webinaariin: </span><a href="https://ssl.eventilla.com/event/M056v"><span>https://ssl.eventilla.com/event/M056v</span></a></p><p dir="ltr"><span>Ilmoittautumiset 17.9. työpajoihin:</span></p><p><span>Etelä-Suomen työpaja (Lahden ja Porvoon AKET): </span><a href="https://link.webropolsurveys.com/EP/8D661E7F78F60751"><span>https://link.webropolsurveys.com/EP/8D661E7F78F60751</span></a><span>&nbsp;&nbsp;</span></p><p><span>Itä-Suomen työpaja (Joensuun ja Kuopion AKET): </span><a href="https://link.webropolsurveys.com/EP/30EE39EBA4014631"><span>https://link.webropolsurveys.com/EP/30EE39EBA4014631</span></a><span>&nbsp;&nbsp;</span></p><p><span>Lapin ja Pohjois-Suomen työpaja (Oulun ja Rovaniemen AKET):</span> <a href="https://uusi.kuntapalvelut.fi/oulunkoulutuskalenteri/fi/course/4611/?expiry=2024-09-17T00%3A00%3A00.000Z&amp;reqid=50b3ddc9-7c6e-4abe-ab0b-c7ae99c85348&amp;unlistedid=4611&amp;hmac=75689549ad9ed02010e28b53390bb213bd4cd526f2d10b66adc2f0aa22cdcc42"><span>https://uusi.kuntapalvelut.fi/oulunkoulutuskalenteri/fi/course/4611/?expiry=2024-09-17T00%3A00%3A00.000Z&amp;reqid=50b3ddc9-7c6e-4abe-ab0b-c7ae99c85348&amp;unlistedid=4611&amp;hmac=75689549ad9ed02010e28b53390bb213bd4cd526f2d10b66adc2f0aa22cdcc42</span></a><span>&nbsp;</span>&nbsp;<span>&nbsp;</span></p><p><span>Lounais-Suomen työpaja (Turun AKE):&nbsp; </span><a href="https://www.lyyti.in/Valmiustyopaja_8914"><span>https://www.lyyti.in/Valmiustyopaja_8914</span></a><span>&nbsp;</span></p><p><span>Länsi- ja Sisä-Suomen työpaja (Vaasan ja Tampereen AKET):</span> <a href="https://elomake.tampere.fi/lomakkeet/29596/lomake.html"><span>https://elomake.tampere.fi/lomakkeet/29596/lomake.html</span></a><span>&nbsp;</span></p><h2 dir="ltr">Lisätietoja</h2><p><span>kirjastotoimen ylitarkastaja Virpi Launonen, virpi.launonen@avi.fi, puh. 0295 016 845&nbsp;</span></p><p><span>ylitarkastaja Marko Ojala, </span><a href="mailto:marko.ojala@avi.fi"><span>marko.ojala@avi.fi</span></a><span>, puh. 0295 016 175&nbsp;</span></p><p><span>ylitarkastaja Mervi Hotokka, </span><a href="mailto:mervi.hotokka@avi.fi"><span>mervi.hotokka@avi.fi</span></a><span>, puh. 0295 016 594&nbsp;</span></p>
LOCATION:
END:VEVENT
END:VCALENDAR