BEGIN:VCALENDAR
VERSION:2.0
PRODID:-//kirjastotfi/procal//NONSGML v1.0//EN
BEGIN:VEVENT
DTSTART:20241029T100000
DTEND:20241029T110000
SUMMARY:Saavutettavuuskirjasto Celian tulevat muutokset
DESCRIPTION:<p><span>Saavutettavuuskirjasto Celiaan on tulossa muutoksia tulevan vuoden aikana. Muutokset koskevat yleisissä kirjastoissa mm. asiakkaiden rekisteröintiä ja äänikirjakokoelmia. Muutoksista kertoo asiantuntija Celian kirjastopalveluista. Tilaisuudessa kuullaan mielellään kirjastokentän kommentteja ja vastataan kysymyksiin. Tule mukaan!</span></p>
LOCATION:Teams
END:VEVENT
END:VCALENDAR