BEGIN:VCALENDAR
VERSION:2.0
PRODID:-//kirjastotfi/procal//NONSGML v1.0//EN
BEGIN:VEVENT
DTSTART:20240822T140000
DTEND:20240822T150000
SUMMARY:Lastenkirjakahvit
DESCRIPTION:<p>Lastenkirjakahveilla keskustellaan ajankohtaisista lasten- ja nuortenkirjoista.</p><p>Voit esitellä lukemasi kirjan tai tulla kuuntelemaan, mitä muut ovat lukeneet.</p><p>Lastenkirjakahvit järjestetään <a href="https://bit.ly/elokuunlastenkirjakahvit24">Teams-etäyhteydellä.</a></p><p>Lastenkirjakahveille ovat tervetulleita kaikki lasten- ja nuortenkirjallisuudesta kiinnostuneet aikuiset!</p>
LOCATION:
END:VEVENT
END:VCALENDAR