BEGIN:VCALENDAR
VERSION:2.0
PRODID:-//kirjastotfi/procal//NONSGML v1.0//EN
BEGIN:VEVENT
DTSTART:20240903T090000
DTEND:20240903T160000
SUMMARY:Musiikkia kaikille – tiedonhaku ja suosittelu haltuun
DESCRIPTION:<p>AKE Porvoo järjestää musiikkiteemaisen koulutuspäivän Kansalliskirjastossa 3.9. klo 9–16. Aamupäivän aikana pureudutaan musiikin tiedonhakuun Finnassa Kansalliskirjaston Serafia Karin opastamana. Tiedonhaussa käydään läpi näitä osa-alueita:</p><ul><li>Tekijä-haku ja toimijat</li><li>Aihe-haku</li><li>Otsikko-haku ja tarkalla otsikolla hakeminen</li><li>Operaattorit ja erikoismerkit haussa</li></ul><p>Tarkempi ohjelma toteutuu etukäteiskysymysten perusteella.</p><p>Iltapäivällä siirrytään seuraaviin aiheisiin: Miten kirjastossa saisi esille musiikkiaineistoa? Entä somessa ja verkkokirjastossa? Miten sisältöjen suosittelua voisi tehdä kätevästi myös musiikkikirjallisuudesta? Suunnittelija Tuomas Pelttari, Musiikkikirjastot.fi, avaa kirjastoblogien kehitystä, sometusta ja yhteistyötä. Asiaa musiikista pintaa syvemmältä.&nbsp;</p><p>Lisäksi kuulemme Kirkes-kirjastojen musiikkihankkeesta nimeltä <a href="https://uudenmaankirjastot.fi/uutiset/hankkeet-esille-ninni-flinck-ja-levylainauksesta-laulupiiriin/">Levylainauksesta laulupiiriin</a>. Päivän päätteeksi Aku-Pekka Kurjenniemi kertoo Kansalliskirjaston musiikkiaarteista ja pääsemme opastetulle kierrokselle Kansalliskirjastoon.</p><h2>Ohjelma</h2><p>9.00- Aamukahvia tarjolla (AKE tarjoaa)</p><p>9.30–12.00 Musiikkitiedonhaku Finnassa. <strong>Serafia Kari</strong>, tietoasiantuntija, Kansalliskirjasto</p><p>12.00–13.00 Lounas (omakustanteinen)</p><p>13.00–14.15 Musaa suosittelemaan! Aineistovinkit haltuun. <strong>Tuomas Pelttari</strong>, suunnittelija, VAKE</p><p>14.15–14.30 Kahvitauko (AKE tarjoaa)</p><p>14.30–15.00 Kirkes-kirjastojen musiikkihanke – Levylainauksesta laulupiiriin. <strong>Ninni Flinck</strong>, vastaava kirjastovirkailija, Keravan kaupunginkirjasto</p><p>15.00–15.30 Kansalliskirjaston musiikkikirjasto ja Kansallinen äänitearkisto. <strong>Aku-Pekka Kurjenniemi</strong>, kirjastonhoitaja, Kansalliskirjasto</p><p>15.30- Päivän päätteeksi opastettu kierros Kansalliskirjaston musiikkikirjaston tiloissa.</p><h2>Kenelle?</h2><p>Päivä on suunnattu kaikille musiikkikirjastotyöstä kiinnostuneille ja mukaan voi liittyä myös Uudenmaan ulkopuolelta. Hyötyä päivän annista on erityisesti Finnan hallinnoijille, sometyötä tekeville, aineistojen parissa toimiville ja tiedonhaussa tukea kaipaaville.&nbsp;</p><p>Ilmoittaudu mukaan koulutuspäivään 27.8. mennessä <a href="https://link.webropolsurveys.com/EP/CEDCF693CB8BEA06">tästä linkistä</a>.</p><h2>Lisätietoja</h2><h5>Elina Karioja, Informaatikko</h5><p><a href="mailto:elina.karioja@porvoo.fi">elina.karioja@porvoo.fi</a>, puh. 040 610 2218</p>
LOCATION:Kansalliskirjasto
END:VEVENT
END:VCALENDAR