BEGIN:VCALENDAR
VERSION:2.0
PRODID:-//kirjastotfi/procal//NONSGML v1.0//EN
BEGIN:VEVENT
DTSTART:20240830T100000
DTEND:20240830T100000
SUMMARY:Ratkaisukahvit #41: Kirjastotyötä kestävästi, eettisesti ja kiinni ajassa
DESCRIPTION:<p><strong>PiKe-alueen loppukesän Ratkaisukahvit! Kokoonnumme perjantaina 30.8. klo 10.00 linjoille etäyhteyksin vaihtamaan ajatuksia kirjastoalan ajankohtaisista asioista. Tervetuloa mukaan kahvittelemaan, keskustelemaan ja oppimaan uutta yhdessä muiden kollegoiden kanssa.&nbsp;☕️</strong></p><p>Elokuun Ratkaisukahveilla käydään läpi kestävää ja eettistä, kuntalaisten osallisuudessa kiinni olevaa kirjastotyötä. Tunnin aikana kerrataan ensin kesäkauden ajankohtaisia ja tutustutaan <a href="https://suomenkirjastoseura.fi/kirjastotyolle-uudet-eettiset-periaatteet/">kevään 2024 aikana uudistettuihin kirjastotyön eettisiin periaatteisiin</a>. Kehittämiskirjastonaapurimme Lahden AKEn <a href="https://lahdenake.fi/artikkelit/vaikuttava-kirjasto-kampanjan-materiaalit-valmistuivat/">kirjastokampanjan</a> ja oman <a href="https://akepike.fi/pike-kirjastojen-vaikuttamishaaste-2024-kirjastolain-nakyvyys-kirjaston-arjessa/">vaikuttamishaasteemme</a> muodossa opimme yhdessä erilaisia käytännön keinoja avata kirjastotyötä kuntalaisille ja kuntapäättäjille. Lausumalla ääneen, tulkitsemalla ja puolustamalla kirjastotyön luonnetta ja kirjastolakiperustaa jokaisella meistä on avaimet vaikuttaa siihen, mitä kirjasto merkitsee kunnassa.</p><h2><strong>Aikataulu ja ohjelma</strong></h2><p><strong>Ratkaisukahvit #41: Kirjastotyötä kestävästi, eettisesti ja kiinni ajassa</strong><br><strong>Pe 30.8.2024</strong><br><strong>Klo 10.00–11.00</strong><br><strong>Etälähetys</strong></p><p>Osallistu ilman ennakkoilmoittautumista osoitteessa akepike.fi. Pirkanmaan ja Keski-Suomen kirjastoammattilaisilla osallistumislinkki toimitetaan myös suoraan sähköpostitse.</p><p>Klo 10.00–10.15 Noin viikon kirjastouutiset /&nbsp;<strong>PiKe-kirjastot ja akepike</strong></p><p>Klo 10.15–10.30 Kotimaisen kirjastotyön uudet eettiset periaatteet / <strong>Juliaana</strong> <strong>Grahn</strong> ja <strong>Inka</strong> <strong>Jousea</strong> (Suomen kirjastoseuran etiikkatyöryhmä)</p><p>Klo 10.30–10.45 Vaikuttava kirjasto -kampanja kutsuu kuntapäättäjät vierailulle kirjastoihin / <strong>Hanna Pitkänen</strong>, kirjastopalvelukoordinaattori (Lahden kaupunginkirjasto)</p><p>Klo 10.45–11.00 PiKen kirjastojen vaikuttamishaaste 2024 esittelyssä / <strong>PiKe-kirjastot ja akepike</strong></p><p><em>Tilaisuuden järjestää Tampereen kaupunginkirjasto. Tampereen kaupunginkirjastolla on alueellinen kehittämistehtävä Pirkanmaan ja Keski-Suomen alueella. Kuvat ja tunnelmat somessa, käytä tunnistetta: #akepike.</em></p><h2><strong>Lisätiedot</strong></h2><p>Koordinaattori Juliaana Grahn<br>Puh. 040 800 7828 / S-posti:&nbsp;juliaana.grahn(a)tampere.fi</p>
LOCATION:Zoom
END:VEVENT
END:VCALENDAR