BEGIN:VCALENDAR
VERSION:2.0
PRODID:-//kirjastotfi/procal//NONSGML v1.0//EN
BEGIN:VEVENT
DTSTART:20241001T130000
DTEND:20241001T153000
SUMMARY:Tekoälyä ja tiedonlouhintaa -webinaari
DESCRIPTION:<h3><span><strong>Tekoälyä ja tiedonlouhintaa&nbsp;</strong></span></h3><h4><span><strong>Aika: tiistaina 1.10.2024 klo 13.00 – 15.30</strong></span></h4><h4><span><strong>Paikka: STKS:n Google Meet</strong></span></h4><p><span>DSM-direktiivin ja sen myötä keväällä 2023 tulleiden tekijänoikeuslain muutosten piti mahdollistaa vapaa teksti- ja tiedonlouhinta tieteelliselle tutkimukselle. Direktiivissä tai kansallisessa tekijänoikeuslaissa ei kuitenkaan mainita tekoälyä tai koneoppimista, joiden käyttöä voidaan rajoittaa sopimuksissa ja käyttöehdoissa. Miten tekijänoikeuden ja tekoäly-työkalujen rinnakkaiselo onnistuu, ja mitä tuo mukanaan EU:n tekoälyasetus?</span></p><p><a href="https://www.stks.fi/tyoryhmat/kirjastojuridiikan-tyoryhma/"><span>STKS:n kirjastojuridiikan työryhmän</span></a><span> järjestämässä webinaarissa saadaan tuore katsaus tekoälyyn liittyvään lainsäädäntöön sekä kuullaan miten AI-työkalut vaikuttavat teksti- ja tiedonlouhintaan kansallisten ja kansainvälisten kulttuuriperintöaineistojen tutkimuksessa. Saamme myös viimeisimmät kuulumiset Ruotsista tiedonlouhinnan ja tekoälyn saralta.&nbsp;</span></p><h3><span><strong>Ohjelma</strong></span></h3><p><span>klo 13.00 – 13.05 Tervetuloa ja johdatus päivän teemaan&nbsp;</span></p><p><span>klo 13.05 – 13.35 Katsaus tekoälysääntelyyn</span><br><span><strong>Laura Sjöblom,</strong> juristi, Haaga-Helia (30 min)</span></p><p><span>klo 13.35 – 13.45 Kysymykset ja kommentit/keskustelu</span></p><p><span>klo 13.45 – 13.50 Lyhyt tauko&nbsp;</span></p><p><span>klo 13.50 – 14.10 Tiedonlouhinta digitoiduista sanomalehdistä, esimerkkinä Tutkain-sopimuksen aineistot</span><br><span>Tietojärjestelmäasiantuntija <strong>Juha Rautiainen</strong>, Kansalliskirjasto&nbsp;</span></p><p><span>klo 14.10 – 14.20 Kysymykset ja kommentit/keskustelu&nbsp;</span></p><p><span>klo 14.20 – 14.50 Tutkijapuheenvuoro</span><br><a href="https://milaoiva.fi/"><span><strong>Mila Oiva</strong>, </span></a><span>kulttuurihistorian dosentti, Turun yliopisto</span></p><p><span>klo 14.50 – 15.00 Kysymykset ja kommentit/keskustelu&nbsp;</span></p><p><span>klo 15.00 – 15.20 (14.00 – 14.20 in Sweden) Text and data mining and copyright: Swedish perspective, </span><a href="https://ericluth.se/"><span><strong>Eric Luth</strong>, Wikimedia Sverige</span></a><span> &amp; </span><a href="https://www.knowledgerights21.org/"><span>Knowledge Rights 21</span></a></p><p><span>klo 15.20 – 15.30 Questions, comments / conversation and wrap-up of the webinar</span></p><p><a href="https://www.flomembers.com/stks/events/register/a5bfc9e07964f8dddeb95fc584cd965d"><strong>Ilmoittaudu mukaan</strong></a><br><span>Ilmoittautuminen päättyy perjantaina 27.9.2024.</span></p><p><span>Webinaari on maksullinen. Hinnat:</span></p><ul><li><span>STKS:n ja sen sisarseurojen* jäsenille 50 euroa (+ alv 25 %)&nbsp;</span><ul><li>*Suomen kirjastoseuran, Tietojohtaminen ry:n, Informaatiotutkimuksen yhdistys ITY ry:n ja Finlands svenska biblioteksförening r.f:n jäsenet voivat osallistua STKS:n järjestämiin koulutuksiin ja tapahtumiin STKS:n jäsenhinnalla.&nbsp;<span>&nbsp;</span></li></ul></li><li><span>opiskelijajäsenille&nbsp; 32,26 € (+ alv 25 %)</span><br>&nbsp;</li><li><span>muille osallistujille 80 euroa (+ alv 25 %)</span></li><li><span>&nbsp;Webinaaria ei tallenneta. Osallistumislinkki lähetetään ilmoittautuneille maanantaina 30.9.2024.</span></li></ul><p><span>Osallistumisen voi perua 30.9.2024 klo 15 asti. Tätä myöhemmät perumiset laskutetaan.&nbsp;</span></p>
LOCATION:Verkossa, STKS:n Google Meet
END:VEVENT
END:VCALENDAR