BEGIN:VCALENDAR
VERSION:2.0
PRODID:-//kirjastotfi/procal//NONSGML v1.0//EN
BEGIN:VEVENT
DTSTART:20241016T100000
DTEND:20241016T113000
SUMMARY:Esa Riutta ja tekoälyn hyödyntäminen osana kirjastotyötä
DESCRIPTION:<p><span>Tekoälyn hyödyntäminen</span></p><p><span>Koulutuksessa tutustutaan mahdollisuuksiin mitä tekoälysovelluksilla pystyy nykypäivänä tekemään, erityisesti kirjastotyössä.</span></p><p><span>&nbsp;Sisältö:</span></p><p><span>Generatiivinen tekoäly</span></p><ul type="disc"><li><span>Miten se toimii ja miten sitä kannattaa käyttää</span></li><li><span>Missä se on hyvä ja missä huono</span></li><li><span>Teksti, kuva, ääni ja video - mitä se osaa jo niin hyvin, että siitä on hyötyä</span></li></ul><p><span>Esimerkkejä käyttötavoista</span></p><ul type="disc"><li><span>Tekstin generointi ja prosessointi</span></li><li><span>Tiedon hakeminen</span></li><li><span>Aineistojen löytäminen</span></li></ul><p><span>Palvelut mihin kannattaa tutustua</span></p><ul type="disc"><li><span>Tekstin prosessointi ja tuotto</span></li><li><span>Hakeminen ja tutkimus</span></li><li><span>Kuvatuotanto</span></li></ul><p><span>Koulutus on avoin kaikille kirjastolaisille</span></p>
LOCATION:Teams
END:VEVENT
END:VCALENDAR